{"text_format":"1","workbook":"xlsx","n_sheets":3,"sheets":["Start","Risikovurdering","Matrise"],"not_rendered":{"charts":0,"images":0,"macros":1,"external_links":0,"defined_names":1,"comments":0,"pivot_tables":0},"unopened":[],"bounds":{"document_bytes":16777216,"sheet_cells":100000,"rows_first":2000,"rows_last":500,"rows_between":2000,"halvings":0,"cell_chars":16384,"cell_head_chars":4096},"cells_cut":0,"cells_raw":0,"read":"whole","date_system":"1900"}

{"sheet":"Start","index":0,"n_rows":21,"n_cols":9,"rows_kept":21,"cut":false,"hidden":false,"merged":[]}
["Oppdatert i versjon 2.0 av Internkontroll i praksis - informasjonssikkerhet. Utarbeidet av Digitaliseringsdirektoratet."]
[]
[null,null,null,1,2,3,4]
[null,{"$f":"D21","v":"Svært høy"},4,"Moderat","Høy","Høy","Svært høy"]
[null,{"$f":"D20","v":"Høy"},3,"Moderat","Moderat","Høy","Høy"]
[null,{"$f":"D19","v":"Moderat"},2,"Lav","Moderat","Moderat","Høy"]
[null,{"$f":"D18","v":"Lav"},1,"Lav","Lav","Moderat","Moderat"]
[null,null,null,{"$f":"F18","v":"Lav"},{"$f":"F19","v":"Moderat"},{"$f":"F20","v":"Høy"},{"$f":"F21","v":"Svært høy"}]
[]
[]
[]
[]
[]
[]
[]
[null,null,null,"SANNSYNLIGHET",null,"KONSEKVENS",null,"RISIKO"]
[]
[null,null,null,"Lav",1,"Lav",1,"Lav",1]
[null,null,null,"Moderat",2,"Moderat",2,"Moderat",2]
[null,null,null,"Høy",3,"Høy",3,"Høy",3]
[null,null,null,"Svært høy",4,"Svært høy",4,"Svært høy",4]

{"sheet":"Risikovurdering","index":1,"n_rows":102,"n_cols":18,"rows_kept":102,"cut":false,"hidden":true,"merged":[]}
[]
["ID","NR","Sanns_verdi","Kons_verdi","Risiko_verdi","Sanns_etter_verdi","Kons_etter_verdi","Gj_Risiko_verdi","Risikobeskrivelse\nStikkord om:\n(1) innledende hendelse(r)\n(2) informasjonssikkerhetsbruddet\n(3) de uønskede konsekvensene som kan oppstå","Begrunnelse for konsekvensvurdering","Konsekvens","Tilhørende sannsynlighet","Begrunnelse for vurdering av tilhørende sannsynlighet","Risikonivå","Vurdering av risikohåndtering","Konsekvens etter tiltak","Sannsynlighet etter tiltak","Gjenværende risiko"]
[{"$f":"\"R\"&B3","v":"R1"},1,{"$f":"IFERROR(VLOOKUP(L3,Start!$D$18:$E$21,2,FALSE),0)","v":4},{"$f":"IFERROR(VLOOKUP(K3,Start!$F$18:$G$21,2,FALSE),0)","v":3},{"$f":"IFERROR(VLOOKUP(N3,Start!$H$18:$I$21,2,FALSE),0)","v":3},{"$f":"IFERROR(VLOOKUP(Q3,Start!$D$18:$E$21,2,FALSE),0)","v":2},{"$f":"IFERROR(VLOOKUP(P3,Start!$F$18:$G$21,2,FALSE),0)","v":2},{"$f":"IFERROR(VLOOKUP(R3,Start!$H$18:$I$21,2,FALSE),0)","v":2},"Risiko 1",null,"Høy","Svært høy",null,{"$f":"VLOOKUP(C3,Start!$C$4:$G$7,MATCH(D3,Start!$D$3:$G$3,0)+1,FALSE)","v":"Høy"},null,"Moderat","Moderat",{"$f":"VLOOKUP(F3,Start!$C$4:$G$7,MATCH(G3,Start!$D$3:$G$3,0)+1,FALSE)","v":"Moderat"}]
[{"$f":"\"R\"&B4","v":"R2"},2,{"$f":"IFERROR(VLOOKUP(L4,Start!$D$18:$E$21,2,FALSE),0)","v":0},{"$f":"IFERROR(VLOOKUP(K4,Start!$F$18:$G$21,2,FALSE),0)","v":0},{"$f":"IFERROR(VLOOKUP(N4,Start!$H$18:$I$21,2,FALSE),0)","v":0},{"$f":"IFERROR(VLOOKUP(Q4,Start!$D$18:$E$21,2,FALSE),0)","v":0},{"$f":"IFERROR(VLOOKUP(P4,Start!$F$18:$G$21,2,FALSE),0)","v":0},{"$f":"IFERROR(VLOOKUP(R4,Start!$H$18:$I$21,2,FALSE),0)","v":0},"Risiko 2",null,null,null,null,{"$f":"VLOOKUP(C4,Start!$C$4:$G$7,MATCH(D4,Start!$D$3:$G$3,0)+1,FALSE)","v":{"$error":"#N/A"}},null,null,null,{"$f":"VLOOKUP(F4,Start!$C$4:$G$7,MATCH(G4,Start!$D$3:$G$3,0)+1,FALSE)","v":{"$error":"#N/A"}}]
[{"$f":"\"R\"&B5","v":"R3"},3,{"$f":"IFERROR(VLOOKUP(L5,Start!$D$18:$E$21,2,FALSE),0)","v":0},{"$f":"IFERROR(VLOOKUP(K5,Start!$F$18:$G$21,2,FALSE),0)","v":0},{"$f":"IFERROR(VLOOKUP(N5,Start!$H$18:$I$21,2,FALSE),0)","v":0},{"$f":"IFERROR(VLOOKUP(Q5,Start!$D$18:$E$21,2,FALSE),0)","v":0},{"$f":"IFERROR(VLOOKUP(P5,Start!$F$18:$G$21,2,FALSE),0)","v":0},{"$f":"IFERROR(VLOOKUP(R5,Start!$H$18:$I$21,2,FALSE),0)","v":0},"Risiko 3",null,null,null,null,{"$f":"VLOOKUP(C5,Start!$C$4:$G$7,MATCH(D5,Start!$D$3:$G$3,0)+1,FALSE)","v":{"$error":"#N/A"}},null,null,null,{"$f":"VLOOKUP(F5,Start!$C$4:$G$7,MATCH(G5,Start!$D$3:$G$3,0)+1,FALSE)","v":{"$error":"#N/A"}}]
[{"$f":"\"R\"&B6","v":"R4"},4,{"$f":"IFERROR(VLOOKUP(L6,Start!$D$18:$E$21,2,FALSE),0)","v":0},{"$f":"IFERROR(VLOOKUP(K6,Start!$F$18:$G$21,2,FALSE),0)","v":0},{"$f":"IFERROR(VLOOKUP(N6,Start!$H$18:$I$21,2,FALSE),0)","v":0},{"$f":"IFERROR(VLOOKUP(Q6,Start!$D$18:$E$21,2,FALSE),0)","v":0},{"$f":"IFERROR(VLOOKUP(P6,Start!$F$18:$G$21,2,FALSE),0)","v":0},{"$f":"IFERROR(VLOOKUP(R6,Start!$H$18:$I$21,2,FALSE),0)","v":0},"Risiko 4",null,null,null,null,{"$f":"VLOOKUP(C6,Start!$C$4:$G$7,MATCH(D6,Start!$D$3:$G$3,0)+1,FALSE)","v":{"$error":"#N/A"}},null,null,null,{"$f":"VLOOKUP(F6,Start!$C$4:$G$7,MATCH(G6,Start!$D$3:$G$3,0)+1,FALSE)","v":{"$error":"#N/A"}}]
[{"$f":"\"R\"&B7","v":"R5"},5,{"$f":"IFERROR(VLOOKUP(L7,Start!$D$18:$E$21,2,FALSE),0)","v":0},{"$f":"IFERROR(VLOOKUP(K7,Start!$F$18:$G$21,2,FALSE),0)","v":0},{"$f":"IFERROR(VLOOKUP(N7,Start!$H$18:$I$21,2,FALSE),0)","v":0},{"$f":"IFERROR(VLOOKUP(Q7,Start!$D$18:$E$21,2,FALSE),0)","v":0},{"$f":"IFERROR(VLOOKUP(P7,Start!$F$18:$G$21,2,FALSE),0)","v":0},{"$f":"IFERROR(VLOOKUP(R7,Start!$H$18:$I$21,2,FALSE),0)","v":0},"Risiko 5",null,null,null,null,{"$f":"VLOOKUP(C7,Start!$C$4:$G$7,MATCH(D7,Start!$D$3:$G$3,0)+1,FALSE)","v":{"$error":"#N/A"}},null,null,null,{"$f":"VLOOKUP(F7,Start!$C$4:$G$7,MATCH(G7,Start!$D$3:$G$3,0)+1,FALSE)","v":{"$error":"#N/A"}}]
[{"$f":"\"R\"&B8","v":"R6"},6,{"$f":"IFERROR(VLOOKUP(L8,Start!$D$18:$E$21,2,FALSE),0)","v":0},{"$f":"IFERROR(VLOOKUP(K8,Start!$F$18:$G$21,2,FALSE),0)","v":0},{"$f":"IFERROR(VLOOKUP(N8,Start!$H$18:$I$21,2,FALSE),0)","v":0},{"$f":"IFERROR(VLOOKUP(Q8,Start!$D$18:$E$21,2,FALSE),0)","v":0},{"$f":"IFERROR(VLOOKUP(P8,Start!$F$18:$G$21,2,FALSE),0)","v":0},{"$f":"IFERROR(VLOOKUP(R8,Start!$H$18:$I$21,2,FALSE),0)","v":0},"Risiko 6",null,null,null,null,{"$f":"VLOOKUP(C8,Start!$C$4:$G$7,MATCH(D8,Start!$D$3:$G$3,0)+1,FALSE)","v":{"$error":"#N/A"}},null,null,null,{"$f":"VLOOKUP(F8,Start!$C$4:$G$7,MATCH(G8,Start!$D$3:$G$3,0)+1,FALSE)","v":{"$error":"#N/A"}}]
[{"$f":"\"R\"&B9","v":"R7"},7,{"$f":"IFERROR(VLOOKUP(L9,Start!$D$18:$E$21,2,FALSE),0)","v":0},{"$f":"IFERROR(VLOOKUP(K9,Start!$F$18:$G$21,2,FALSE),0)","v":0},{"$f":"IFERROR(VLOOKUP(N9,Start!$H$18:$I$21,2,FALSE),0)","v":0},{"$f":"IFERROR(VLOOKUP(Q9,Start!$D$18:$E$21,2,FALSE),0)","v":0},{"$f":"IFERROR(VLOOKUP(P9,Start!$F$18:$G$21,2,FALSE),0)","v":0},{"$f":"IFERROR(VLOOKUP(R9,Start!$H$18:$I$21,2,FALSE),0)","v":0},"Risiko 7",null,null,null,null,{"$f":"VLOOKUP(C9,Start!$C$4:$G$7,MATCH(D9,Start!$D$3:$G$3,0)+1,FALSE)","v":{"$error":"#N/A"}},null,null,null,{"$f":"VLOOKUP(F9,Start!$C$4:$G$7,MATCH(G9,Start!$D$3:$G$3,0)+1,FALSE)","v":{"$error":"#N/A"}}]
[{"$f":"\"R\"&B10","v":"R8"},8,{"$f":"IFERROR(VLOOKUP(L10,Start!$D$18:$E$21,2,FALSE),0)","v":0},{"$f":"IFERROR(VLOOKUP(K10,Start!$F$18:$G$21,2,FALSE),0)","v":0},{"$f":"IFERROR(VLOOKUP(N10,Start!$H$18:$I$21,2,FALSE),0)","v":0},{"$f":"IFERROR(VLOOKUP(Q10,Start!$D$18:$E$21,2,FALSE),0)","v":0},{"$f":"IFERROR(VLOOKUP(P10,Start!$F$18:$G$21,2,FALSE),0)","v":0},{"$f":"IFERROR(VLOOKUP(R10,Start!$H$18:$I$21,2,FALSE),0)","v":0},"Risiko 8",null,null,null,null,{"$f":"VLOOKUP(C10,Start!$C$4:$G$7,MATCH(D10,Start!$D$3:$G$3,0)+1,FALSE)","v":{"$error":"#N/A"}},null,null,null,{"$f":"VLOOKUP(F10,Start!$C$4:$G$7,MATCH(G10,Start!$D$3:$G$3,0)+1,FALSE)","v":{"$error":"#N/A"}}]
[{"$f":"\"R\"&B11","v":"R9"},9,{"$f":"IFERROR(VLOOKUP(L11,Start!$D$18:$E$21,2,FALSE),0)","v":0},{"$f":"IFERROR(VLOOKUP(K11,Start!$F$18:$G$21,2,FALSE),0)","v":0},{"$f":"IFERROR(VLOOKUP(N11,Start!$H$18:$I$21,2,FALSE),0)","v":0},{"$f":"IFERROR(VLOOKUP(Q11,Start!$D$18:$E$21,2,FALSE),0)","v":0},{"$f":"IFERROR(VLOOKUP(P11,Start!$F$18:$G$21,2,FALSE),0)","v":0},{"$f":"IFERROR(VLOOKUP(R11,Start!$H$18:$I$21,2,FALSE),0)","v":0},"Risiko 9",null,null,null,null,{"$f":"VLOOKUP(C11,Start!$C$4:$G$7,MATCH(D11,Start!$D$3:$G$3,0)+1,FALSE)","v":{"$error":"#N/A"}},null,null,null,{"$f":"VLOOKUP(F11,Start!$C$4:$G$7,MATCH(G11,Start!$D$3:$G$3,0)+1,FALSE)","v":{"$error":"#N/A"}}]
[{"$f":"\"R\"&B12","v":"R10"},10,{"$f":"IFERROR(VLOOKUP(L12,Start!$D$18:$E$21,2,FALSE),0)","v":0},{"$f":"IFERROR(VLOOKUP(K12,Start!$F$18:$G$21,2,FALSE),0)","v":0},{"$f":"IFERROR(VLOOKUP(N12,Start!$H$18:$I$21,2,FALSE),0)","v":0},{"$f":"IFERROR(VLOOKUP(Q12,Start!$D$18:$E$21,2,FALSE),0)","v":0},{"$f":"IFERROR(VLOOKUP(P12,Start!$F$18:$G$21,2,FALSE),0)","v":0},{"$f":"IFERROR(VLOOKUP(R12,Start!$H$18:$I$21,2,FALSE),0)","v":0},"Risiko 10",null,null,null,null,{"$f":"VLOOKUP(C12,Start!$C$4:$G$7,MATCH(D12,Start!$D$3:$G$3,0)+1,FALSE)","v":{"$error":"#N/A"}},null,null,null,{"$f":"VLOOKUP(F12,Start!$C$4:$G$7,MATCH(G12,Start!$D$3:$G$3,0)+1,FALSE)","v":{"$error":"#N/A"}}]
[{"$f":"\"R\"&B13","v":"R11"},11,{"$f":"IFERROR(VLOOKUP(L13,Start!$D$18:$E$21,2,FALSE),0)","v":0},{"$f":"IFERROR(VLOOKUP(K13,Start!$F$18:$G$21,2,FALSE),0)","v":0},{"$f":"IFERROR(VLOOKUP(N13,Start!$H$18:$I$21,2,FALSE),0)","v":0},{"$f":"IFERROR(VLOOKUP(Q13,Start!$D$18:$E$21,2,FALSE),0)","v":0},{"$f":"IFERROR(VLOOKUP(P13,Start!$F$18:$G$21,2,FALSE),0)","v":0},{"$f":"IFERROR(VLOOKUP(R13,Start!$H$18:$I$21,2,FALSE),0)","v":0},null,null,null,null,null,{"$f":"VLOOKUP(C13,Start!$C$4:$G$7,MATCH(D13,Start!$D$3:$G$3,0)+1,FALSE)","v":{"$error":"#N/A"}},null,null,null,{"$f":"VLOOKUP(F13,Start!$C$4:$G$7,MATCH(G13,Start!$D$3:$G$3,0)+1,FALSE)","v":{"$error":"#N/A"}}]
[{"$f":"\"R\"&B14","v":"R12"},12,{"$f":"IFERROR(VLOOKUP(L14,Start!$D$18:$E$21,2,FALSE),0)","v":0},{"$f":"IFERROR(VLOOKUP(K14,Start!$F$18:$G$21,2,FALSE),0)","v":0},{"$f":"IFERROR(VLOOKUP(N14,Start!$H$18:$I$21,2,FALSE),0)","v":0},{"$f":"IFERROR(VLOOKUP(Q14,Start!$D$18:$E$21,2,FALSE),0)","v":0},{"$f":"IFERROR(VLOOKUP(P14,Start!$F$18:$G$21,2,FALSE),0)","v":0},{"$f":"IFERROR(VLOOKUP(R14,Start!$H$18:$I$21,2,FALSE),0)","v":0},null,null,null,null,null,{"$f":"VLOOKUP(C14,Start!$C$4:$G$7,MATCH(D14,Start!$D$3:$G$3,0)+1,FALSE)","v":{"$error":"#N/A"}},null,null,null,{"$f":"VLOOKUP(F14,Start!$C$4:$G$7,MATCH(G14,Start!$D$3:$G$3,0)+1,FALSE)","v":{"$error":"#N/A"}}]
[{"$f":"\"R\"&B15","v":"R13"},13,{"$f":"IFERROR(VLOOKUP(L15,Start!$D$18:$E$21,2,FALSE),0)","v":0},{"$f":"IFERROR(VLOOKUP(K15,Start!$F$18:$G$21,2,FALSE),0)","v":0},{"$f":"IFERROR(VLOOKUP(N15,Start!$H$18:$I$21,2,FALSE),0)","v":0},{"$f":"IFERROR(VLOOKUP(Q15,Start!$D$18:$E$21,2,FALSE),0)","v":0},{"$f":"IFERROR(VLOOKUP(P15,Start!$F$18:$G$21,2,FALSE),0)","v":0},{"$f":"IFERROR(VLOOKUP(R15,Start!$H$18:$I$21,2,FALSE),0)","v":0},null,null,null,null,null,{"$f":"VLOOKUP(C15,Start!$C$4:$G$7,MATCH(D15,Start!$D$3:$G$3,0)+1,FALSE)","v":{"$error":"#N/A"}},null,null,null,{"$f":"VLOOKUP(F15,Start!$C$4:$G$7,MATCH(G15,Start!$D$3:$G$3,0)+1,FALSE)","v":{"$error":"#N/A"}}]
[{"$f":"\"R\"&B16","v":"R14"},14,{"$f":"IFERROR(VLOOKUP(L16,Start!$D$18:$E$21,2,FALSE),0)","v":0},{"$f":"IFERROR(VLOOKUP(K16,Start!$F$18:$G$21,2,FALSE),0)","v":0},{"$f":"IFERROR(VLOOKUP(N16,Start!$H$18:$I$21,2,FALSE),0)","v":0},{"$f":"IFERROR(VLOOKUP(Q16,Start!$D$18:$E$21,2,FALSE),0)","v":0},{"$f":"IFERROR(VLOOKUP(P16,Start!$F$18:$G$21,2,FALSE),0)","v":0},{"$f":"IFERROR(VLOOKUP(R16,Start!$H$18:$I$21,2,FALSE),0)","v":0},null,null,null,null,null,{"$f":"VLOOKUP(C16,Start!$C$4:$G$7,MATCH(D16,Start!$D$3:$G$3,0)+1,FALSE)","v":{"$error":"#N/A"}},null,null,null,{"$f":"VLOOKUP(F16,Start!$C$4:$G$7,MATCH(G16,Start!$D$3:$G$3,0)+1,FALSE)","v":{"$error":"#N/A"}}]
[{"$f":"\"R\"&B17","v":"R15"},15,{"$f":"IFERROR(VLOOKUP(L17,Start!$D$18:$E$21,2,FALSE),0)","v":0},{"$f":"IFERROR(VLOOKUP(K17,Start!$F$18:$G$21,2,FALSE),0)","v":0},{"$f":"IFERROR(VLOOKUP(N17,Start!$H$18:$I$21,2,FALSE),0)","v":0},{"$f":"IFERROR(VLOOKUP(Q17,Start!$D$18:$E$21,2,FALSE),0)","v":0},{"$f":"IFERROR(VLOOKUP(P17,Start!$F$18:$G$21,2,FALSE),0)","v":0},{"$f":"IFERROR(VLOOKUP(R17,Start!$H$18:$I$21,2,FALSE),0)","v":0},null,null,null,null,null,{"$f":"VLOOKUP(C17,Start!$C$4:$G$7,MATCH(D17,Start!$D$3:$G$3,0)+1,FALSE)","v":{"$error":"#N/A"}},null,null,null,{"$f":"VLOOKUP(F17,Start!$C$4:$G$7,MATCH(G17,Start!$D$3:$G$3,0)+1,FALSE)","v":{"$error":"#N/A"}}]
[{"$f":"\"R\"&B18","v":"R16"},16,{"$f":"IFERROR(VLOOKUP(L18,Start!$D$18:$E$21,2,FALSE),0)","v":0},{"$f":"IFERROR(VLOOKUP(K18,Start!$F$18:$G$21,2,FALSE),0)","v":0},{"$f":"IFERROR(VLOOKUP(N18,Start!$H$18:$I$21,2,FALSE),0)","v":0},{"$f":"IFERROR(VLOOKUP(Q18,Start!$D$18:$E$21,2,FALSE),0)","v":0},{"$f":"IFERROR(VLOOKUP(P18,Start!$F$18:$G$21,2,FALSE),0)","v":0},{"$f":"IFERROR(VLOOKUP(R18,Start!$H$18:$I$21,2,FALSE),0)","v":0},null,null,null,null,null,{"$f":"VLOOKUP(C18,Start!$C$4:$G$7,MATCH(D18,Start!$D$3:$G$3,0)+1,FALSE)","v":{"$error":"#N/A"}},null,null,null,{"$f":"VLOOKUP(F18,Start!$C$4:$G$7,MATCH(G18,Start!$D$3:$G$3,0)+1,FALSE)","v":{"$error":"#N/A"}}]
[{"$f":"\"R\"&B19","v":"R17"},17,{"$f":"IFERROR(VLOOKUP(L19,Start!$D$18:$E$21,2,FALSE),0)","v":0},{"$f":"IFERROR(VLOOKUP(K19,Start!$F$18:$G$21,2,FALSE),0)","v":0},{"$f":"IFERROR(VLOOKUP(N19,Start!$H$18:$I$21,2,FALSE),0)","v":0},{"$f":"IFERROR(VLOOKUP(Q19,Start!$D$18:$E$21,2,FALSE),0)","v":0},{"$f":"IFERROR(VLOOKUP(P19,Start!$F$18:$G$21,2,FALSE),0)","v":0},{"$f":"IFERROR(VLOOKUP(R19,Start!$H$18:$I$21,2,FALSE),0)","v":0},null,null,null,null,null,{"$f":"VLOOKUP(C19,Start!$C$4:$G$7,MATCH(D19,Start!$D$3:$G$3,0)+1,FALSE)","v":{"$error":"#N/A"}},null,null,null,{"$f":"VLOOKUP(F19,Start!$C$4:$G$7,MATCH(G19,Start!$D$3:$G$3,0)+1,FALSE)","v":{"$error":"#N/A"}}]
[{"$f":"\"R\"&B20","v":"R18"},18,{"$f":"IFERROR(VLOOKUP(L20,Start!$D$18:$E$21,2,FALSE),0)","v":0},{"$f":"IFERROR(VLOOKUP(K20,Start!$F$18:$G$21,2,FALSE),0)","v":0},{"$f":"IFERROR(VLOOKUP(N20,Start!$H$18:$I$21,2,FALSE),0)","v":0},{"$f":"IFERROR(VLOOKUP(Q20,Start!$D$18:$E$21,2,FALSE),0)","v":0},{"$f":"IFERROR(VLOOKUP(P20,Start!$F$18:$G$21,2,FALSE),0)","v":0},{"$f":"IFERROR(VLOOKUP(R20,Start!$H$18:$I$21,2,FALSE),0)","v":0},null,null,null,null,null,{"$f":"VLOOKUP(C20,Start!$C$4:$G$7,MATCH(D20,Start!$D$3:$G$3,0)+1,FALSE)","v":{"$error":"#N/A"}},null,null,null,{"$f":"VLOOKUP(F20,Start!$C$4:$G$7,MATCH(G20,Start!$D$3:$G$3,0)+1,FALSE)","v":{"$error":"#N/A"}}]
[{"$f":"\"R\"&B21","v":"R19"},19,{"$f":"IFERROR(VLOOKUP(L21,Start!$D$18:$E$21,2,FALSE),0)","v":0},{"$f":"IFERROR(VLOOKUP(K21,Start!$F$18:$G$21,2,FALSE),0)","v":0},{"$f":"IFERROR(VLOOKUP(N21,Start!$H$18:$I$21,2,FALSE),0)","v":0},{"$f":"IFERROR(VLOOKUP(Q21,Start!$D$18:$E$21,2,FALSE),0)","v":0},{"$f":"IFERROR(VLOOKUP(P21,Start!$F$18:$G$21,2,FALSE),0)","v":0},{"$f":"IFERROR(VLOOKUP(R21,Start!$H$18:$I$21,2,FALSE),0)","v":0},null,null,null,null,null,{"$f":"VLOOKUP(C21,Start!$C$4:$G$7,MATCH(D21,Start!$D$3:$G$3,0)+1,FALSE)","v":{"$error":"#N/A"}},null,null,null,{"$f":"VLOOKUP(F21,Start!$C$4:$G$7,MATCH(G21,Start!$D$3:$G$3,0)+1,FALSE)","v":{"$error":"#N/A"}}]
[{"$f":"\"R\"&B22","v":"R20"},20,{"$f":"IFERROR(VLOOKUP(L22,Start!$D$18:$E$21,2,FALSE),0)","v":0},{"$f":"IFERROR(VLOOKUP(K22,Start!$F$18:$G$21,2,FALSE),0)","v":0},{"$f":"IFERROR(VLOOKUP(N22,Start!$H$18:$I$21,2,FALSE),0)","v":0},{"$f":"IFERROR(VLOOKUP(Q22,Start!$D$18:$E$21,2,FALSE),0)","v":0},{"$f":"IFERROR(VLOOKUP(P22,Start!$F$18:$G$21,2,FALSE),0)","v":0},{"$f":"IFERROR(VLOOKUP(R22,Start!$H$18:$I$21,2,FALSE),0)","v":0},null,null,null,null,null,{"$f":"VLOOKUP(C22,Start!$C$4:$G$7,MATCH(D22,Start!$D$3:$G$3,0)+1,FALSE)","v":{"$error":"#N/A"}},null,null,null,{"$f":"VLOOKUP(F22,Start!$C$4:$G$7,MATCH(G22,Start!$D$3:$G$3,0)+1,FALSE)","v":{"$error":"#N/A"}}]
[{"$f":"\"R\"&B23","v":"R21"},21,{"$f":"IFERROR(VLOOKUP(L23,Start!$D$18:$E$21,2,FALSE),0)","v":0},{"$f":"IFERROR(VLOOKUP(K23,Start!$F$18:$G$21,2,FALSE),0)","v":0},{"$f":"IFERROR(VLOOKUP(N23,Start!$H$18:$I$21,2,FALSE),0)","v":0},{"$f":"IFERROR(VLOOKUP(Q23,Start!$D$18:$E$21,2,FALSE),0)","v":0},{"$f":"IFERROR(VLOOKUP(P23,Start!$F$18:$G$21,2,FALSE),0)","v":0},{"$f":"IFERROR(VLOOKUP(R23,Start!$H$18:$I$21,2,FALSE),0)","v":0},null,null,null,null,null,{"$f":"VLOOKUP(C23,Start!$C$4:$G$7,MATCH(D23,Start!$D$3:$G$3,0)+1,FALSE)","v":{"$error":"#N/A"}},null,null,null,{"$f":"VLOOKUP(F23,Start!$C$4:$G$7,MATCH(G23,Start!$D$3:$G$3,0)+1,FALSE)","v":{"$error":"#N/A"}}]
[{"$f":"\"R\"&B24","v":"R22"},22,{"$f":"IFERROR(VLOOKUP(L24,Start!$D$18:$E$21,2,FALSE),0)","v":0},{"$f":"IFERROR(VLOOKUP(K24,Start!$F$18:$G$21,2,FALSE),0)","v":0},{"$f":"IFERROR(VLOOKUP(N24,Start!$H$18:$I$21,2,FALSE),0)","v":0},{"$f":"IFERROR(VLOOKUP(Q24,Start!$D$18:$E$21,2,FALSE),0)","v":0},{"$f":"IFERROR(VLOOKUP(P24,Start!$F$18:$G$21,2,FALSE),0)","v":0},{"$f":"IFERROR(VLOOKUP(R24,Start!$H$18:$I$21,2,FALSE),0)","v":0},null,null,null,null,null,{"$f":"VLOOKUP(C24,Start!$C$4:$G$7,MATCH(D24,Start!$D$3:$G$3,0)+1,FALSE)","v":{"$error":"#N/A"}},null,null,null,{"$f":"VLOOKUP(F24,Start!$C$4:$G$7,MATCH(G24,Start!$D$3:$G$3,0)+1,FALSE)","v":{"$error":"#N/A"}}]
[{"$f":"\"R\"&B25","v":"R23"},23,{"$f":"IFERROR(VLOOKUP(L25,Start!$D$18:$E$21,2,FALSE),0)","v":0},{"$f":"IFERROR(VLOOKUP(K25,Start!$F$18:$G$21,2,FALSE),0)","v":0},{"$f":"IFERROR(VLOOKUP(N25,Start!$H$18:$I$21,2,FALSE),0)","v":0},{"$f":"IFERROR(VLOOKUP(Q25,Start!$D$18:$E$21,2,FALSE),0)","v":0},{"$f":"IFERROR(VLOOKUP(P25,Start!$F$18:$G$21,2,FALSE),0)","v":0},{"$f":"IFERROR(VLOOKUP(R25,Start!$H$18:$I$21,2,FALSE),0)","v":0},null,null,null,null,null,{"$f":"VLOOKUP(C25,Start!$C$4:$G$7,MATCH(D25,Start!$D$3:$G$3,0)+1,FALSE)","v":{"$error":"#N/A"}},null,null,null,{"$f":"VLOOKUP(F25,Start!$C$4:$G$7,MATCH(G25,Start!$D$3:$G$3,0)+1,FALSE)","v":{"$error":"#N/A"}}]
[{"$f":"\"R\"&B26","v":"R24"},24,{"$f":"IFERROR(VLOOKUP(L26,Start!$D$18:$E$21,2,FALSE),0)","v":0},{"$f":"IFERROR(VLOOKUP(K26,Start!$F$18:$G$21,2,FALSE),0)","v":0},{"$f":"IFERROR(VLOOKUP(N26,Start!$H$18:$I$21,2,FALSE),0)","v":0},{"$f":"IFERROR(VLOOKUP(Q26,Start!$D$18:$E$21,2,FALSE),0)","v":0},{"$f":"IFERROR(VLOOKUP(P26,Start!$F$18:$G$21,2,FALSE),0)","v":0},{"$f":"IFERROR(VLOOKUP(R26,Start!$H$18:$I$21,2,FALSE),0)","v":0},null,null,null,null,null,{"$f":"VLOOKUP(C26,Start!$C$4:$G$7,MATCH(D26,Start!$D$3:$G$3,0)+1,FALSE)","v":{"$error":"#N/A"}},null,null,null,{"$f":"VLOOKUP(F26,Start!$C$4:$G$7,MATCH(G26,Start!$D$3:$G$3,0)+1,FALSE)","v":{"$error":"#N/A"}}]
[{"$f":"\"R\"&B27","v":"R25"},25,{"$f":"IFERROR(VLOOKUP(L27,Start!$D$18:$E$21,2,FALSE),0)","v":0},{"$f":"IFERROR(VLOOKUP(K27,Start!$F$18:$G$21,2,FALSE),0)","v":0},{"$f":"IFERROR(VLOOKUP(N27,Start!$H$18:$I$21,2,FALSE),0)","v":0},{"$f":"IFERROR(VLOOKUP(Q27,Start!$D$18:$E$21,2,FALSE),0)","v":0},{"$f":"IFERROR(VLOOKUP(P27,Start!$F$18:$G$21,2,FALSE),0)","v":0},{"$f":"IFERROR(VLOOKUP(R27,Start!$H$18:$I$21,2,FALSE),0)","v":0},null,null,null,null,null,{"$f":"VLOOKUP(C27,Start!$C$4:$G$7,MATCH(D27,Start!$D$3:$G$3,0)+1,FALSE)","v":{"$error":"#N/A"}},null,null,null,{"$f":"VLOOKUP(F27,Start!$C$4:$G$7,MATCH(G27,Start!$D$3:$G$3,0)+1,FALSE)","v":{"$error":"#N/A"}}]
[{"$f":"\"R\"&B28","v":"R26"},26,{"$f":"IFERROR(VLOOKUP(L28,Start!$D$18:$E$21,2,FALSE),0)","v":0},{"$f":"IFERROR(VLOOKUP(K28,Start!$F$18:$G$21,2,FALSE),0)","v":0},{"$f":"IFERROR(VLOOKUP(N28,Start!$H$18:$I$21,2,FALSE),0)","v":0},{"$f":"IFERROR(VLOOKUP(Q28,Start!$D$18:$E$21,2,FALSE),0)","v":0},{"$f":"IFERROR(VLOOKUP(P28,Start!$F$18:$G$21,2,FALSE),0)","v":0},{"$f":"IFERROR(VLOOKUP(R28,Start!$H$18:$I$21,2,FALSE),0)","v":0},null,null,null,null,null,{"$f":"VLOOKUP(C28,Start!$C$4:$G$7,MATCH(D28,Start!$D$3:$G$3,0)+1,FALSE)","v":{"$error":"#N/A"}},null,null,null,{"$f":"VLOOKUP(F28,Start!$C$4:$G$7,MATCH(G28,Start!$D$3:$G$3,0)+1,FALSE)","v":{"$error":"#N/A"}}]
[{"$f":"\"R\"&B29","v":"R27"},27,{"$f":"IFERROR(VLOOKUP(L29,Start!$D$18:$E$21,2,FALSE),0)","v":0},{"$f":"IFERROR(VLOOKUP(K29,Start!$F$18:$G$21,2,FALSE),0)","v":0},{"$f":"IFERROR(VLOOKUP(N29,Start!$H$18:$I$21,2,FALSE),0)","v":0},{"$f":"IFERROR(VLOOKUP(Q29,Start!$D$18:$E$21,2,FALSE),0)","v":0},{"$f":"IFERROR(VLOOKUP(P29,Start!$F$18:$G$21,2,FALSE),0)","v":0},{"$f":"IFERROR(VLOOKUP(R29,Start!$H$18:$I$21,2,FALSE),0)","v":0},null,null,null,null,null,{"$f":"VLOOKUP(C29,Start!$C$4:$G$7,MATCH(D29,Start!$D$3:$G$3,0)+1,FALSE)","v":{"$error":"#N/A"}},null,null,null,{"$f":"VLOOKUP(F29,Start!$C$4:$G$7,MATCH(G29,Start!$D$3:$G$3,0)+1,FALSE)","v":{"$error":"#N/A"}}]
[{"$f":"\"R\"&B30","v":"R28"},28,{"$f":"IFERROR(VLOOKUP(L30,Start!$D$18:$E$21,2,FALSE),0)","v":0},{"$f":"IFERROR(VLOOKUP(K30,Start!$F$18:$G$21,2,FALSE),0)","v":0},{"$f":"IFERROR(VLOOKUP(N30,Start!$H$18:$I$21,2,FALSE),0)","v":0},{"$f":"IFERROR(VLOOKUP(Q30,Start!$D$18:$E$21,2,FALSE),0)","v":0},{"$f":"IFERROR(VLOOKUP(P30,Start!$F$18:$G$21,2,FALSE),0)","v":0},{"$f":"IFERROR(VLOOKUP(R30,Start!$H$18:$I$21,2,FALSE),0)","v":0},null,null,null,null,null,{"$f":"VLOOKUP(C30,Start!$C$4:$G$7,MATCH(D30,Start!$D$3:$G$3,0)+1,FALSE)","v":{"$error":"#N/A"}},null,null,null,{"$f":"VLOOKUP(F30,Start!$C$4:$G$7,MATCH(G30,Start!$D$3:$G$3,0)+1,FALSE)","v":{"$error":"#N/A"}}]
[{"$f":"\"R\"&B31","v":"R29"},29,{"$f":"IFERROR(VLOOKUP(L31,Start!$D$18:$E$21,2,FALSE),0)","v":0},{"$f":"IFERROR(VLOOKUP(K31,Start!$F$18:$G$21,2,FALSE),0)","v":0},{"$f":"IFERROR(VLOOKUP(N31,Start!$H$18:$I$21,2,FALSE),0)","v":0},{"$f":"IFERROR(VLOOKUP(Q31,Start!$D$18:$E$21,2,FALSE),0)","v":0},{"$f":"IFERROR(VLOOKUP(P31,Start!$F$18:$G$21,2,FALSE),0)","v":0},{"$f":"IFERROR(VLOOKUP(R31,Start!$H$18:$I$21,2,FALSE),0)","v":0},null,null,null,null,null,{"$f":"VLOOKUP(C31,Start!$C$4:$G$7,MATCH(D31,Start!$D$3:$G$3,0)+1,FALSE)","v":{"$error":"#N/A"}},null,null,null,{"$f":"VLOOKUP(F31,Start!$C$4:$G$7,MATCH(G31,Start!$D$3:$G$3,0)+1,FALSE)","v":{"$error":"#N/A"}}]
[{"$f":"\"R\"&B32","v":"R30"},30,{"$f":"IFERROR(VLOOKUP(L32,Start!$D$18:$E$21,2,FALSE),0)","v":0},{"$f":"IFERROR(VLOOKUP(K32,Start!$F$18:$G$21,2,FALSE),0)","v":0},{"$f":"IFERROR(VLOOKUP(N32,Start!$H$18:$I$21,2,FALSE),0)","v":0},{"$f":"IFERROR(VLOOKUP(Q32,Start!$D$18:$E$21,2,FALSE),0)","v":0},{"$f":"IFERROR(VLOOKUP(P32,Start!$F$18:$G$21,2,FALSE),0)","v":0},{"$f":"IFERROR(VLOOKUP(R32,Start!$H$18:$I$21,2,FALSE),0)","v":0},null,null,null,null,null,{"$f":"VLOOKUP(C32,Start!$C$4:$G$7,MATCH(D32,Start!$D$3:$G$3,0)+1,FALSE)","v":{"$error":"#N/A"}},null,null,null,{"$f":"VLOOKUP(F32,Start!$C$4:$G$7,MATCH(G32,Start!$D$3:$G$3,0)+1,FALSE)","v":{"$error":"#N/A"}}]
[{"$f":"\"R\"&B33","v":"R31"},31,{"$f":"IFERROR(VLOOKUP(L33,Start!$D$18:$E$21,2,FALSE),0)","v":0},{"$f":"IFERROR(VLOOKUP(K33,Start!$F$18:$G$21,2,FALSE),0)","v":0},{"$f":"IFERROR(VLOOKUP(N33,Start!$H$18:$I$21,2,FALSE),0)","v":0},{"$f":"IFERROR(VLOOKUP(Q33,Start!$D$18:$E$21,2,FALSE),0)","v":0},{"$f":"IFERROR(VLOOKUP(P33,Start!$F$18:$G$21,2,FALSE),0)","v":0},{"$f":"IFERROR(VLOOKUP(R33,Start!$H$18:$I$21,2,FALSE),0)","v":0},null,null,null,null,null,{"$f":"VLOOKUP(C33,Start!$C$4:$G$7,MATCH(D33,Start!$D$3:$G$3,0)+1,FALSE)","v":{"$error":"#N/A"}},null,null,null,{"$f":"VLOOKUP(F33,Start!$C$4:$G$7,MATCH(G33,Start!$D$3:$G$3,0)+1,FALSE)","v":{"$error":"#N/A"}}]
[{"$f":"\"R\"&B34","v":"R32"},32,{"$f":"IFERROR(VLOOKUP(L34,Start!$D$18:$E$21,2,FALSE),0)","v":0},{"$f":"IFERROR(VLOOKUP(K34,Start!$F$18:$G$21,2,FALSE),0)","v":0},{"$f":"IFERROR(VLOOKUP(N34,Start!$H$18:$I$21,2,FALSE),0)","v":0},{"$f":"IFERROR(VLOOKUP(Q34,Start!$D$18:$E$21,2,FALSE),0)","v":0},{"$f":"IFERROR(VLOOKUP(P34,Start!$F$18:$G$21,2,FALSE),0)","v":0},{"$f":"IFERROR(VLOOKUP(R34,Start!$H$18:$I$21,2,FALSE),0)","v":0},null,null,null,null,null,{"$f":"VLOOKUP(C34,Start!$C$4:$G$7,MATCH(D34,Start!$D$3:$G$3,0)+1,FALSE)","v":{"$error":"#N/A"}},null,null,null,{"$f":"VLOOKUP(F34,Start!$C$4:$G$7,MATCH(G34,Start!$D$3:$G$3,0)+1,FALSE)","v":{"$error":"#N/A"}}]
[{"$f":"\"R\"&B35","v":"R33"},33,{"$f":"IFERROR(VLOOKUP(L35,Start!$D$18:$E$21,2,FALSE),0)","v":0},{"$f":"IFERROR(VLOOKUP(K35,Start!$F$18:$G$21,2,FALSE),0)","v":0},{"$f":"IFERROR(VLOOKUP(N35,Start!$H$18:$I$21,2,FALSE),0)","v":0},{"$f":"IFERROR(VLOOKUP(Q35,Start!$D$18:$E$21,2,FALSE),0)","v":0},{"$f":"IFERROR(VLOOKUP(P35,Start!$F$18:$G$21,2,FALSE),0)","v":0},{"$f":"IFERROR(VLOOKUP(R35,Start!$H$18:$I$21,2,FALSE),0)","v":0},null,null,null,null,null,{"$f":"VLOOKUP(C35,Start!$C$4:$G$7,MATCH(D35,Start!$D$3:$G$3,0)+1,FALSE)","v":{"$error":"#N/A"}},null,null,null,{"$f":"VLOOKUP(F35,Start!$C$4:$G$7,MATCH(G35,Start!$D$3:$G$3,0)+1,FALSE)","v":{"$error":"#N/A"}}]
[{"$f":"\"R\"&B36","v":"R34"},34,{"$f":"IFERROR(VLOOKUP(L36,Start!$D$18:$E$21,2,FALSE),0)","v":0},{"$f":"IFERROR(VLOOKUP(K36,Start!$F$18:$G$21,2,FALSE),0)","v":0},{"$f":"IFERROR(VLOOKUP(N36,Start!$H$18:$I$21,2,FALSE),0)","v":0},{"$f":"IFERROR(VLOOKUP(Q36,Start!$D$18:$E$21,2,FALSE),0)","v":0},{"$f":"IFERROR(VLOOKUP(P36,Start!$F$18:$G$21,2,FALSE),0)","v":0},{"$f":"IFERROR(VLOOKUP(R36,Start!$H$18:$I$21,2,FALSE),0)","v":0},null,null,null,null,null,{"$f":"VLOOKUP(C36,Start!$C$4:$G$7,MATCH(D36,Start!$D$3:$G$3,0)+1,FALSE)","v":{"$error":"#N/A"}},null,null,null,{"$f":"VLOOKUP(F36,Start!$C$4:$G$7,MATCH(G36,Start!$D$3:$G$3,0)+1,FALSE)","v":{"$error":"#N/A"}}]
[{"$f":"\"R\"&B37","v":"R35"},35,{"$f":"IFERROR(VLOOKUP(L37,Start!$D$18:$E$21,2,FALSE),0)","v":0},{"$f":"IFERROR(VLOOKUP(K37,Start!$F$18:$G$21,2,FALSE),0)","v":0},{"$f":"IFERROR(VLOOKUP(N37,Start!$H$18:$I$21,2,FALSE),0)","v":0},{"$f":"IFERROR(VLOOKUP(Q37,Start!$D$18:$E$21,2,FALSE),0)","v":0},{"$f":"IFERROR(VLOOKUP(P37,Start!$F$18:$G$21,2,FALSE),0)","v":0},{"$f":"IFERROR(VLOOKUP(R37,Start!$H$18:$I$21,2,FALSE),0)","v":0},null,null,null,null,null,{"$f":"VLOOKUP(C37,Start!$C$4:$G$7,MATCH(D37,Start!$D$3:$G$3,0)+1,FALSE)","v":{"$error":"#N/A"}},null,null,null,{"$f":"VLOOKUP(F37,Start!$C$4:$G$7,MATCH(G37,Start!$D$3:$G$3,0)+1,FALSE)","v":{"$error":"#N/A"}}]
[{"$f":"\"R\"&B38","v":"R36"},36,{"$f":"IFERROR(VLOOKUP(L38,Start!$D$18:$E$21,2,FALSE),0)","v":0},{"$f":"IFERROR(VLOOKUP(K38,Start!$F$18:$G$21,2,FALSE),0)","v":0},{"$f":"IFERROR(VLOOKUP(N38,Start!$H$18:$I$21,2,FALSE),0)","v":0},{"$f":"IFERROR(VLOOKUP(Q38,Start!$D$18:$E$21,2,FALSE),0)","v":0},{"$f":"IFERROR(VLOOKUP(P38,Start!$F$18:$G$21,2,FALSE),0)","v":0},{"$f":"IFERROR(VLOOKUP(R38,Start!$H$18:$I$21,2,FALSE),0)","v":0},null,null,null,null,null,{"$f":"VLOOKUP(C38,Start!$C$4:$G$7,MATCH(D38,Start!$D$3:$G$3,0)+1,FALSE)","v":{"$error":"#N/A"}},null,null,null,{"$f":"VLOOKUP(F38,Start!$C$4:$G$7,MATCH(G38,Start!$D$3:$G$3,0)+1,FALSE)","v":{"$error":"#N/A"}}]
[{"$f":"\"R\"&B39","v":"R37"},37,{"$f":"IFERROR(VLOOKUP(L39,Start!$D$18:$E$21,2,FALSE),0)","v":0},{"$f":"IFERROR(VLOOKUP(K39,Start!$F$18:$G$21,2,FALSE),0)","v":0},{"$f":"IFERROR(VLOOKUP(N39,Start!$H$18:$I$21,2,FALSE),0)","v":0},{"$f":"IFERROR(VLOOKUP(Q39,Start!$D$18:$E$21,2,FALSE),0)","v":0},{"$f":"IFERROR(VLOOKUP(P39,Start!$F$18:$G$21,2,FALSE),0)","v":0},{"$f":"IFERROR(VLOOKUP(R39,Start!$H$18:$I$21,2,FALSE),0)","v":0},null,null,null,null,null,{"$f":"VLOOKUP(C39,Start!$C$4:$G$7,MATCH(D39,Start!$D$3:$G$3,0)+1,FALSE)","v":{"$error":"#N/A"}},null,null,null,{"$f":"VLOOKUP(F39,Start!$C$4:$G$7,MATCH(G39,Start!$D$3:$G$3,0)+1,FALSE)","v":{"$error":"#N/A"}}]
[{"$f":"\"R\"&B40","v":"R38"},38,{"$f":"IFERROR(VLOOKUP(L40,Start!$D$18:$E$21,2,FALSE),0)","v":0},{"$f":"IFERROR(VLOOKUP(K40,Start!$F$18:$G$21,2,FALSE),0)","v":0},{"$f":"IFERROR(VLOOKUP(N40,Start!$H$18:$I$21,2,FALSE),0)","v":0},{"$f":"IFERROR(VLOOKUP(Q40,Start!$D$18:$E$21,2,FALSE),0)","v":0},{"$f":"IFERROR(VLOOKUP(P40,Start!$F$18:$G$21,2,FALSE),0)","v":0},{"$f":"IFERROR(VLOOKUP(R40,Start!$H$18:$I$21,2,FALSE),0)","v":0},null,null,null,null,null,{"$f":"VLOOKUP(C40,Start!$C$4:$G$7,MATCH(D40,Start!$D$3:$G$3,0)+1,FALSE)","v":{"$error":"#N/A"}},null,null,null,{"$f":"VLOOKUP(F40,Start!$C$4:$G$7,MATCH(G40,Start!$D$3:$G$3,0)+1,FALSE)","v":{"$error":"#N/A"}}]
[{"$f":"\"R\"&B41","v":"R39"},39,{"$f":"IFERROR(VLOOKUP(L41,Start!$D$18:$E$21,2,FALSE),0)","v":0},{"$f":"IFERROR(VLOOKUP(K41,Start!$F$18:$G$21,2,FALSE),0)","v":0},{"$f":"IFERROR(VLOOKUP(N41,Start!$H$18:$I$21,2,FALSE),0)","v":0},{"$f":"IFERROR(VLOOKUP(Q41,Start!$D$18:$E$21,2,FALSE),0)","v":0},{"$f":"IFERROR(VLOOKUP(P41,Start!$F$18:$G$21,2,FALSE),0)","v":0},{"$f":"IFERROR(VLOOKUP(R41,Start!$H$18:$I$21,2,FALSE),0)","v":0},null,null,null,null,null,{"$f":"VLOOKUP(C41,Start!$C$4:$G$7,MATCH(D41,Start!$D$3:$G$3,0)+1,FALSE)","v":{"$error":"#N/A"}},null,null,null,{"$f":"VLOOKUP(F41,Start!$C$4:$G$7,MATCH(G41,Start!$D$3:$G$3,0)+1,FALSE)","v":{"$error":"#N/A"}}]
[{"$f":"\"R\"&B42","v":"R40"},40,{"$f":"IFERROR(VLOOKUP(L42,Start!$D$18:$E$21,2,FALSE),0)","v":0},{"$f":"IFERROR(VLOOKUP(K42,Start!$F$18:$G$21,2,FALSE),0)","v":0},{"$f":"IFERROR(VLOOKUP(N42,Start!$H$18:$I$21,2,FALSE),0)","v":0},{"$f":"IFERROR(VLOOKUP(Q42,Start!$D$18:$E$21,2,FALSE),0)","v":0},{"$f":"IFERROR(VLOOKUP(P42,Start!$F$18:$G$21,2,FALSE),0)","v":0},{"$f":"IFERROR(VLOOKUP(R42,Start!$H$18:$I$21,2,FALSE),0)","v":0},null,null,null,null,null,{"$f":"VLOOKUP(C42,Start!$C$4:$G$7,MATCH(D42,Start!$D$3:$G$3,0)+1,FALSE)","v":{"$error":"#N/A"}},null,null,null,{"$f":"VLOOKUP(F42,Start!$C$4:$G$7,MATCH(G42,Start!$D$3:$G$3,0)+1,FALSE)","v":{"$error":"#N/A"}}]
[{"$f":"\"R\"&B43","v":"R41"},41,{"$f":"IFERROR(VLOOKUP(L43,Start!$D$18:$E$21,2,FALSE),0)","v":0},{"$f":"IFERROR(VLOOKUP(K43,Start!$F$18:$G$21,2,FALSE),0)","v":0},{"$f":"IFERROR(VLOOKUP(N43,Start!$H$18:$I$21,2,FALSE),0)","v":0},{"$f":"IFERROR(VLOOKUP(Q43,Start!$D$18:$E$21,2,FALSE),0)","v":0},{"$f":"IFERROR(VLOOKUP(P43,Start!$F$18:$G$21,2,FALSE),0)","v":0},{"$f":"IFERROR(VLOOKUP(R43,Start!$H$18:$I$21,2,FALSE),0)","v":0},null,null,null,null,null,{"$f":"VLOOKUP(C43,Start!$C$4:$G$7,MATCH(D43,Start!$D$3:$G$3,0)+1,FALSE)","v":{"$error":"#N/A"}},null,null,null,{"$f":"VLOOKUP(F43,Start!$C$4:$G$7,MATCH(G43,Start!$D$3:$G$3,0)+1,FALSE)","v":{"$error":"#N/A"}}]
[{"$f":"\"R\"&B44","v":"R42"},42,{"$f":"IFERROR(VLOOKUP(L44,Start!$D$18:$E$21,2,FALSE),0)","v":0},{"$f":"IFERROR(VLOOKUP(K44,Start!$F$18:$G$21,2,FALSE),0)","v":0},{"$f":"IFERROR(VLOOKUP(N44,Start!$H$18:$I$21,2,FALSE),0)","v":0},{"$f":"IFERROR(VLOOKUP(Q44,Start!$D$18:$E$21,2,FALSE),0)","v":0},{"$f":"IFERROR(VLOOKUP(P44,Start!$F$18:$G$21,2,FALSE),0)","v":0},{"$f":"IFERROR(VLOOKUP(R44,Start!$H$18:$I$21,2,FALSE),0)","v":0},null,null,null,null,null,{"$f":"VLOOKUP(C44,Start!$C$4:$G$7,MATCH(D44,Start!$D$3:$G$3,0)+1,FALSE)","v":{"$error":"#N/A"}},null,null,null,{"$f":"VLOOKUP(F44,Start!$C$4:$G$7,MATCH(G44,Start!$D$3:$G$3,0)+1,FALSE)","v":{"$error":"#N/A"}}]
[{"$f":"\"R\"&B45","v":"R43"},43,{"$f":"IFERROR(VLOOKUP(L45,Start!$D$18:$E$21,2,FALSE),0)","v":0},{"$f":"IFERROR(VLOOKUP(K45,Start!$F$18:$G$21,2,FALSE),0)","v":0},{"$f":"IFERROR(VLOOKUP(N45,Start!$H$18:$I$21,2,FALSE),0)","v":0},{"$f":"IFERROR(VLOOKUP(Q45,Start!$D$18:$E$21,2,FALSE),0)","v":0},{"$f":"IFERROR(VLOOKUP(P45,Start!$F$18:$G$21,2,FALSE),0)","v":0},{"$f":"IFERROR(VLOOKUP(R45,Start!$H$18:$I$21,2,FALSE),0)","v":0},null,null,null,null,null,{"$f":"VLOOKUP(C45,Start!$C$4:$G$7,MATCH(D45,Start!$D$3:$G$3,0)+1,FALSE)","v":{"$error":"#N/A"}},null,null,null,{"$f":"VLOOKUP(F45,Start!$C$4:$G$7,MATCH(G45,Start!$D$3:$G$3,0)+1,FALSE)","v":{"$error":"#N/A"}}]
[{"$f":"\"R\"&B46","v":"R44"},44,{"$f":"IFERROR(VLOOKUP(L46,Start!$D$18:$E$21,2,FALSE),0)","v":0},{"$f":"IFERROR(VLOOKUP(K46,Start!$F$18:$G$21,2,FALSE),0)","v":0},{"$f":"IFERROR(VLOOKUP(N46,Start!$H$18:$I$21,2,FALSE),0)","v":0},{"$f":"IFERROR(VLOOKUP(Q46,Start!$D$18:$E$21,2,FALSE),0)","v":0},{"$f":"IFERROR(VLOOKUP(P46,Start!$F$18:$G$21,2,FALSE),0)","v":0},{"$f":"IFERROR(VLOOKUP(R46,Start!$H$18:$I$21,2,FALSE),0)","v":0},null,null,null,null,null,{"$f":"VLOOKUP(C46,Start!$C$4:$G$7,MATCH(D46,Start!$D$3:$G$3,0)+1,FALSE)","v":{"$error":"#N/A"}},null,null,null,{"$f":"VLOOKUP(F46,Start!$C$4:$G$7,MATCH(G46,Start!$D$3:$G$3,0)+1,FALSE)","v":{"$error":"#N/A"}}]
[{"$f":"\"R\"&B47","v":"R45"},45,{"$f":"IFERROR(VLOOKUP(L47,Start!$D$18:$E$21,2,FALSE),0)","v":0},{"$f":"IFERROR(VLOOKUP(K47,Start!$F$18:$G$21,2,FALSE),0)","v":0},{"$f":"IFERROR(VLOOKUP(N47,Start!$H$18:$I$21,2,FALSE),0)","v":0},{"$f":"IFERROR(VLOOKUP(Q47,Start!$D$18:$E$21,2,FALSE),0)","v":0},{"$f":"IFERROR(VLOOKUP(P47,Start!$F$18:$G$21,2,FALSE),0)","v":0},{"$f":"IFERROR(VLOOKUP(R47,Start!$H$18:$I$21,2,FALSE),0)","v":0},null,null,null,null,null,{"$f":"VLOOKUP(C47,Start!$C$4:$G$7,MATCH(D47,Start!$D$3:$G$3,0)+1,FALSE)","v":{"$error":"#N/A"}},null,null,null,{"$f":"VLOOKUP(F47,Start!$C$4:$G$7,MATCH(G47,Start!$D$3:$G$3,0)+1,FALSE)","v":{"$error":"#N/A"}}]
[{"$f":"\"R\"&B48","v":"R46"},46,{"$f":"IFERROR(VLOOKUP(L48,Start!$D$18:$E$21,2,FALSE),0)","v":0},{"$f":"IFERROR(VLOOKUP(K48,Start!$F$18:$G$21,2,FALSE),0)","v":0},{"$f":"IFERROR(VLOOKUP(N48,Start!$H$18:$I$21,2,FALSE),0)","v":0},{"$f":"IFERROR(VLOOKUP(Q48,Start!$D$18:$E$21,2,FALSE),0)","v":0},{"$f":"IFERROR(VLOOKUP(P48,Start!$F$18:$G$21,2,FALSE),0)","v":0},{"$f":"IFERROR(VLOOKUP(R48,Start!$H$18:$I$21,2,FALSE),0)","v":0},null,null,null,null,null,{"$f":"VLOOKUP(C48,Start!$C$4:$G$7,MATCH(D48,Start!$D$3:$G$3,0)+1,FALSE)","v":{"$error":"#N/A"}},null,null,null,{"$f":"VLOOKUP(F48,Start!$C$4:$G$7,MATCH(G48,Start!$D$3:$G$3,0)+1,FALSE)","v":{"$error":"#N/A"}}]
[{"$f":"\"R\"&B49","v":"R47"},47,{"$f":"IFERROR(VLOOKUP(L49,Start!$D$18:$E$21,2,FALSE),0)","v":0},{"$f":"IFERROR(VLOOKUP(K49,Start!$F$18:$G$21,2,FALSE),0)","v":0},{"$f":"IFERROR(VLOOKUP(N49,Start!$H$18:$I$21,2,FALSE),0)","v":0},{"$f":"IFERROR(VLOOKUP(Q49,Start!$D$18:$E$21,2,FALSE),0)","v":0},{"$f":"IFERROR(VLOOKUP(P49,Start!$F$18:$G$21,2,FALSE),0)","v":0},{"$f":"IFERROR(VLOOKUP(R49,Start!$H$18:$I$21,2,FALSE),0)","v":0},null,null,null,null,null,{"$f":"VLOOKUP(C49,Start!$C$4:$G$7,MATCH(D49,Start!$D$3:$G$3,0)+1,FALSE)","v":{"$error":"#N/A"}},null,null,null,{"$f":"VLOOKUP(F49,Start!$C$4:$G$7,MATCH(G49,Start!$D$3:$G$3,0)+1,FALSE)","v":{"$error":"#N/A"}}]
[{"$f":"\"R\"&B50","v":"R48"},48,{"$f":"IFERROR(VLOOKUP(L50,Start!$D$18:$E$21,2,FALSE),0)","v":0},{"$f":"IFERROR(VLOOKUP(K50,Start!$F$18:$G$21,2,FALSE),0)","v":0},{"$f":"IFERROR(VLOOKUP(N50,Start!$H$18:$I$21,2,FALSE),0)","v":0},{"$f":"IFERROR(VLOOKUP(Q50,Start!$D$18:$E$21,2,FALSE),0)","v":0},{"$f":"IFERROR(VLOOKUP(P50,Start!$F$18:$G$21,2,FALSE),0)","v":0},{"$f":"IFERROR(VLOOKUP(R50,Start!$H$18:$I$21,2,FALSE),0)","v":0},null,null,null,null,null,{"$f":"VLOOKUP(C50,Start!$C$4:$G$7,MATCH(D50,Start!$D$3:$G$3,0)+1,FALSE)","v":{"$error":"#N/A"}},null,null,null,{"$f":"VLOOKUP(F50,Start!$C$4:$G$7,MATCH(G50,Start!$D$3:$G$3,0)+1,FALSE)","v":{"$error":"#N/A"}}]
[{"$f":"\"R\"&B51","v":"R49"},49,{"$f":"IFERROR(VLOOKUP(L51,Start!$D$18:$E$21,2,FALSE),0)","v":0},{"$f":"IFERROR(VLOOKUP(K51,Start!$F$18:$G$21,2,FALSE),0)","v":0},{"$f":"IFERROR(VLOOKUP(N51,Start!$H$18:$I$21,2,FALSE),0)","v":0},{"$f":"IFERROR(VLOOKUP(Q51,Start!$D$18:$E$21,2,FALSE),0)","v":0},{"$f":"IFERROR(VLOOKUP(P51,Start!$F$18:$G$21,2,FALSE),0)","v":0},{"$f":"IFERROR(VLOOKUP(R51,Start!$H$18:$I$21,2,FALSE),0)","v":0},null,null,null,null,null,{"$f":"VLOOKUP(C51,Start!$C$4:$G$7,MATCH(D51,Start!$D$3:$G$3,0)+1,FALSE)","v":{"$error":"#N/A"}},null,null,null,{"$f":"VLOOKUP(F51,Start!$C$4:$G$7,MATCH(G51,Start!$D$3:$G$3,0)+1,FALSE)","v":{"$error":"#N/A"}}]
[{"$f":"\"R\"&B52","v":"R50"},50,{"$f":"IFERROR(VLOOKUP(L52,Start!$D$18:$E$21,2,FALSE),0)","v":0},{"$f":"IFERROR(VLOOKUP(K52,Start!$F$18:$G$21,2,FALSE),0)","v":0},{"$f":"IFERROR(VLOOKUP(N52,Start!$H$18:$I$21,2,FALSE),0)","v":0},{"$f":"IFERROR(VLOOKUP(Q52,Start!$D$18:$E$21,2,FALSE),0)","v":0},{"$f":"IFERROR(VLOOKUP(P52,Start!$F$18:$G$21,2,FALSE),0)","v":0},{"$f":"IFERROR(VLOOKUP(R52,Start!$H$18:$I$21,2,FALSE),0)","v":0},null,null,null,null,null,{"$f":"VLOOKUP(C52,Start!$C$4:$G$7,MATCH(D52,Start!$D$3:$G$3,0)+1,FALSE)","v":{"$error":"#N/A"}},null,null,null,{"$f":"VLOOKUP(F52,Start!$C$4:$G$7,MATCH(G52,Start!$D$3:$G$3,0)+1,FALSE)","v":{"$error":"#N/A"}}]
[{"$f":"\"R\"&B53","v":"R51"},51,{"$f":"IFERROR(VLOOKUP(L53,Start!$D$18:$E$21,2,FALSE),0)","v":0},{"$f":"IFERROR(VLOOKUP(K53,Start!$F$18:$G$21,2,FALSE),0)","v":0},{"$f":"IFERROR(VLOOKUP(N53,Start!$H$18:$I$21,2,FALSE),0)","v":0},{"$f":"IFERROR(VLOOKUP(Q53,Start!$D$18:$E$21,2,FALSE),0)","v":0},{"$f":"IFERROR(VLOOKUP(P53,Start!$F$18:$G$21,2,FALSE),0)","v":0},{"$f":"IFERROR(VLOOKUP(R53,Start!$H$18:$I$21,2,FALSE),0)","v":0},null,null,null,null,null,{"$f":"VLOOKUP(C53,Start!$C$4:$G$7,MATCH(D53,Start!$D$3:$G$3,0)+1,FALSE)","v":{"$error":"#N/A"}},null,null,null,{"$f":"VLOOKUP(F53,Start!$C$4:$G$7,MATCH(G53,Start!$D$3:$G$3,0)+1,FALSE)","v":{"$error":"#N/A"}}]
[{"$f":"\"R\"&B54","v":"R52"},52,{"$f":"IFERROR(VLOOKUP(L54,Start!$D$18:$E$21,2,FALSE),0)","v":0},{"$f":"IFERROR(VLOOKUP(K54,Start!$F$18:$G$21,2,FALSE),0)","v":0},{"$f":"IFERROR(VLOOKUP(N54,Start!$H$18:$I$21,2,FALSE),0)","v":0},{"$f":"IFERROR(VLOOKUP(Q54,Start!$D$18:$E$21,2,FALSE),0)","v":0},{"$f":"IFERROR(VLOOKUP(P54,Start!$F$18:$G$21,2,FALSE),0)","v":0},{"$f":"IFERROR(VLOOKUP(R54,Start!$H$18:$I$21,2,FALSE),0)","v":0},null,null,null,null,null,{"$f":"VLOOKUP(C54,Start!$C$4:$G$7,MATCH(D54,Start!$D$3:$G$3,0)+1,FALSE)","v":{"$error":"#N/A"}},null,null,null,{"$f":"VLOOKUP(F54,Start!$C$4:$G$7,MATCH(G54,Start!$D$3:$G$3,0)+1,FALSE)","v":{"$error":"#N/A"}}]
[{"$f":"\"R\"&B55","v":"R53"},53,{"$f":"IFERROR(VLOOKUP(L55,Start!$D$18:$E$21,2,FALSE),0)","v":0},{"$f":"IFERROR(VLOOKUP(K55,Start!$F$18:$G$21,2,FALSE),0)","v":0},{"$f":"IFERROR(VLOOKUP(N55,Start!$H$18:$I$21,2,FALSE),0)","v":0},{"$f":"IFERROR(VLOOKUP(Q55,Start!$D$18:$E$21,2,FALSE),0)","v":0},{"$f":"IFERROR(VLOOKUP(P55,Start!$F$18:$G$21,2,FALSE),0)","v":0},{"$f":"IFERROR(VLOOKUP(R55,Start!$H$18:$I$21,2,FALSE),0)","v":0},null,null,null,null,null,{"$f":"VLOOKUP(C55,Start!$C$4:$G$7,MATCH(D55,Start!$D$3:$G$3,0)+1,FALSE)","v":{"$error":"#N/A"}},null,null,null,{"$f":"VLOOKUP(F55,Start!$C$4:$G$7,MATCH(G55,Start!$D$3:$G$3,0)+1,FALSE)","v":{"$error":"#N/A"}}]
[{"$f":"\"R\"&B56","v":"R54"},54,{"$f":"IFERROR(VLOOKUP(L56,Start!$D$18:$E$21,2,FALSE),0)","v":0},{"$f":"IFERROR(VLOOKUP(K56,Start!$F$18:$G$21,2,FALSE),0)","v":0},{"$f":"IFERROR(VLOOKUP(N56,Start!$H$18:$I$21,2,FALSE),0)","v":0},{"$f":"IFERROR(VLOOKUP(Q56,Start!$D$18:$E$21,2,FALSE),0)","v":0},{"$f":"IFERROR(VLOOKUP(P56,Start!$F$18:$G$21,2,FALSE),0)","v":0},{"$f":"IFERROR(VLOOKUP(R56,Start!$H$18:$I$21,2,FALSE),0)","v":0},null,null,null,null,null,{"$f":"VLOOKUP(C56,Start!$C$4:$G$7,MATCH(D56,Start!$D$3:$G$3,0)+1,FALSE)","v":{"$error":"#N/A"}},null,null,null,{"$f":"VLOOKUP(F56,Start!$C$4:$G$7,MATCH(G56,Start!$D$3:$G$3,0)+1,FALSE)","v":{"$error":"#N/A"}}]
[{"$f":"\"R\"&B57","v":"R55"},55,{"$f":"IFERROR(VLOOKUP(L57,Start!$D$18:$E$21,2,FALSE),0)","v":0},{"$f":"IFERROR(VLOOKUP(K57,Start!$F$18:$G$21,2,FALSE),0)","v":0},{"$f":"IFERROR(VLOOKUP(N57,Start!$H$18:$I$21,2,FALSE),0)","v":0},{"$f":"IFERROR(VLOOKUP(Q57,Start!$D$18:$E$21,2,FALSE),0)","v":0},{"$f":"IFERROR(VLOOKUP(P57,Start!$F$18:$G$21,2,FALSE),0)","v":0},{"$f":"IFERROR(VLOOKUP(R57,Start!$H$18:$I$21,2,FALSE),0)","v":0},null,null,null,null,null,{"$f":"VLOOKUP(C57,Start!$C$4:$G$7,MATCH(D57,Start!$D$3:$G$3,0)+1,FALSE)","v":{"$error":"#N/A"}},null,null,null,{"$f":"VLOOKUP(F57,Start!$C$4:$G$7,MATCH(G57,Start!$D$3:$G$3,0)+1,FALSE)","v":{"$error":"#N/A"}}]
[{"$f":"\"R\"&B58","v":"R56"},56,{"$f":"IFERROR(VLOOKUP(L58,Start!$D$18:$E$21,2,FALSE),0)","v":0},{"$f":"IFERROR(VLOOKUP(K58,Start!$F$18:$G$21,2,FALSE),0)","v":0},{"$f":"IFERROR(VLOOKUP(N58,Start!$H$18:$I$21,2,FALSE),0)","v":0},{"$f":"IFERROR(VLOOKUP(Q58,Start!$D$18:$E$21,2,FALSE),0)","v":0},{"$f":"IFERROR(VLOOKUP(P58,Start!$F$18:$G$21,2,FALSE),0)","v":0},{"$f":"IFERROR(VLOOKUP(R58,Start!$H$18:$I$21,2,FALSE),0)","v":0},null,null,null,null,null,{"$f":"VLOOKUP(C58,Start!$C$4:$G$7,MATCH(D58,Start!$D$3:$G$3,0)+1,FALSE)","v":{"$error":"#N/A"}},null,null,null,{"$f":"VLOOKUP(F58,Start!$C$4:$G$7,MATCH(G58,Start!$D$3:$G$3,0)+1,FALSE)","v":{"$error":"#N/A"}}]
[{"$f":"\"R\"&B59","v":"R57"},57,{"$f":"IFERROR(VLOOKUP(L59,Start!$D$18:$E$21,2,FALSE),0)","v":0},{"$f":"IFERROR(VLOOKUP(K59,Start!$F$18:$G$21,2,FALSE),0)","v":0},{"$f":"IFERROR(VLOOKUP(N59,Start!$H$18:$I$21,2,FALSE),0)","v":0},{"$f":"IFERROR(VLOOKUP(Q59,Start!$D$18:$E$21,2,FALSE),0)","v":0},{"$f":"IFERROR(VLOOKUP(P59,Start!$F$18:$G$21,2,FALSE),0)","v":0},{"$f":"IFERROR(VLOOKUP(R59,Start!$H$18:$I$21,2,FALSE),0)","v":0},null,null,null,null,null,{"$f":"VLOOKUP(C59,Start!$C$4:$G$7,MATCH(D59,Start!$D$3:$G$3,0)+1,FALSE)","v":{"$error":"#N/A"}},null,null,null,{"$f":"VLOOKUP(F59,Start!$C$4:$G$7,MATCH(G59,Start!$D$3:$G$3,0)+1,FALSE)","v":{"$error":"#N/A"}}]
[{"$f":"\"R\"&B60","v":"R58"},58,{"$f":"IFERROR(VLOOKUP(L60,Start!$D$18:$E$21,2,FALSE),0)","v":0},{"$f":"IFERROR(VLOOKUP(K60,Start!$F$18:$G$21,2,FALSE),0)","v":0},{"$f":"IFERROR(VLOOKUP(N60,Start!$H$18:$I$21,2,FALSE),0)","v":0},{"$f":"IFERROR(VLOOKUP(Q60,Start!$D$18:$E$21,2,FALSE),0)","v":0},{"$f":"IFERROR(VLOOKUP(P60,Start!$F$18:$G$21,2,FALSE),0)","v":0},{"$f":"IFERROR(VLOOKUP(R60,Start!$H$18:$I$21,2,FALSE),0)","v":0},null,null,null,null,null,{"$f":"VLOOKUP(C60,Start!$C$4:$G$7,MATCH(D60,Start!$D$3:$G$3,0)+1,FALSE)","v":{"$error":"#N/A"}},null,null,null,{"$f":"VLOOKUP(F60,Start!$C$4:$G$7,MATCH(G60,Start!$D$3:$G$3,0)+1,FALSE)","v":{"$error":"#N/A"}}]
[{"$f":"\"R\"&B61","v":"R59"},59,{"$f":"IFERROR(VLOOKUP(L61,Start!$D$18:$E$21,2,FALSE),0)","v":0},{"$f":"IFERROR(VLOOKUP(K61,Start!$F$18:$G$21,2,FALSE),0)","v":0},{"$f":"IFERROR(VLOOKUP(N61,Start!$H$18:$I$21,2,FALSE),0)","v":0},{"$f":"IFERROR(VLOOKUP(Q61,Start!$D$18:$E$21,2,FALSE),0)","v":0},{"$f":"IFERROR(VLOOKUP(P61,Start!$F$18:$G$21,2,FALSE),0)","v":0},{"$f":"IFERROR(VLOOKUP(R61,Start!$H$18:$I$21,2,FALSE),0)","v":0},null,null,null,null,null,{"$f":"VLOOKUP(C61,Start!$C$4:$G$7,MATCH(D61,Start!$D$3:$G$3,0)+1,FALSE)","v":{"$error":"#N/A"}},null,null,null,{"$f":"VLOOKUP(F61,Start!$C$4:$G$7,MATCH(G61,Start!$D$3:$G$3,0)+1,FALSE)","v":{"$error":"#N/A"}}]
[{"$f":"\"R\"&B62","v":"R60"},60,{"$f":"IFERROR(VLOOKUP(L62,Start!$D$18:$E$21,2,FALSE),0)","v":0},{"$f":"IFERROR(VLOOKUP(K62,Start!$F$18:$G$21,2,FALSE),0)","v":0},{"$f":"IFERROR(VLOOKUP(N62,Start!$H$18:$I$21,2,FALSE),0)","v":0},{"$f":"IFERROR(VLOOKUP(Q62,Start!$D$18:$E$21,2,FALSE),0)","v":0},{"$f":"IFERROR(VLOOKUP(P62,Start!$F$18:$G$21,2,FALSE),0)","v":0},{"$f":"IFERROR(VLOOKUP(R62,Start!$H$18:$I$21,2,FALSE),0)","v":0},null,null,null,null,null,{"$f":"VLOOKUP(C62,Start!$C$4:$G$7,MATCH(D62,Start!$D$3:$G$3,0)+1,FALSE)","v":{"$error":"#N/A"}},null,null,null,{"$f":"VLOOKUP(F62,Start!$C$4:$G$7,MATCH(G62,Start!$D$3:$G$3,0)+1,FALSE)","v":{"$error":"#N/A"}}]
[{"$f":"\"R\"&B63","v":"R61"},61,{"$f":"IFERROR(VLOOKUP(L63,Start!$D$18:$E$21,2,FALSE),0)","v":0},{"$f":"IFERROR(VLOOKUP(K63,Start!$F$18:$G$21,2,FALSE),0)","v":0},{"$f":"IFERROR(VLOOKUP(N63,Start!$H$18:$I$21,2,FALSE),0)","v":0},{"$f":"IFERROR(VLOOKUP(Q63,Start!$D$18:$E$21,2,FALSE),0)","v":0},{"$f":"IFERROR(VLOOKUP(P63,Start!$F$18:$G$21,2,FALSE),0)","v":0},{"$f":"IFERROR(VLOOKUP(R63,Start!$H$18:$I$21,2,FALSE),0)","v":0},null,null,null,null,null,{"$f":"VLOOKUP(C63,Start!$C$4:$G$7,MATCH(D63,Start!$D$3:$G$3,0)+1,FALSE)","v":{"$error":"#N/A"}},null,null,null,{"$f":"VLOOKUP(F63,Start!$C$4:$G$7,MATCH(G63,Start!$D$3:$G$3,0)+1,FALSE)","v":{"$error":"#N/A"}}]
[{"$f":"\"R\"&B64","v":"R62"},62,{"$f":"IFERROR(VLOOKUP(L64,Start!$D$18:$E$21,2,FALSE),0)","v":0},{"$f":"IFERROR(VLOOKUP(K64,Start!$F$18:$G$21,2,FALSE),0)","v":0},{"$f":"IFERROR(VLOOKUP(N64,Start!$H$18:$I$21,2,FALSE),0)","v":0},{"$f":"IFERROR(VLOOKUP(Q64,Start!$D$18:$E$21,2,FALSE),0)","v":0},{"$f":"IFERROR(VLOOKUP(P64,Start!$F$18:$G$21,2,FALSE),0)","v":0},{"$f":"IFERROR(VLOOKUP(R64,Start!$H$18:$I$21,2,FALSE),0)","v":0},null,null,null,null,null,{"$f":"VLOOKUP(C64,Start!$C$4:$G$7,MATCH(D64,Start!$D$3:$G$3,0)+1,FALSE)","v":{"$error":"#N/A"}},null,null,null,{"$f":"VLOOKUP(F64,Start!$C$4:$G$7,MATCH(G64,Start!$D$3:$G$3,0)+1,FALSE)","v":{"$error":"#N/A"}}]
[{"$f":"\"R\"&B65","v":"R63"},63,{"$f":"IFERROR(VLOOKUP(L65,Start!$D$18:$E$21,2,FALSE),0)","v":0},{"$f":"IFERROR(VLOOKUP(K65,Start!$F$18:$G$21,2,FALSE),0)","v":0},{"$f":"IFERROR(VLOOKUP(N65,Start!$H$18:$I$21,2,FALSE),0)","v":0},{"$f":"IFERROR(VLOOKUP(Q65,Start!$D$18:$E$21,2,FALSE),0)","v":0},{"$f":"IFERROR(VLOOKUP(P65,Start!$F$18:$G$21,2,FALSE),0)","v":0},{"$f":"IFERROR(VLOOKUP(R65,Start!$H$18:$I$21,2,FALSE),0)","v":0},null,null,null,null,null,{"$f":"VLOOKUP(C65,Start!$C$4:$G$7,MATCH(D65,Start!$D$3:$G$3,0)+1,FALSE)","v":{"$error":"#N/A"}},null,null,null,{"$f":"VLOOKUP(F65,Start!$C$4:$G$7,MATCH(G65,Start!$D$3:$G$3,0)+1,FALSE)","v":{"$error":"#N/A"}}]
[{"$f":"\"R\"&B66","v":"R64"},64,{"$f":"IFERROR(VLOOKUP(L66,Start!$D$18:$E$21,2,FALSE),0)","v":0},{"$f":"IFERROR(VLOOKUP(K66,Start!$F$18:$G$21,2,FALSE),0)","v":0},{"$f":"IFERROR(VLOOKUP(N66,Start!$H$18:$I$21,2,FALSE),0)","v":0},{"$f":"IFERROR(VLOOKUP(Q66,Start!$D$18:$E$21,2,FALSE),0)","v":0},{"$f":"IFERROR(VLOOKUP(P66,Start!$F$18:$G$21,2,FALSE),0)","v":0},{"$f":"IFERROR(VLOOKUP(R66,Start!$H$18:$I$21,2,FALSE),0)","v":0},null,null,null,null,null,{"$f":"VLOOKUP(C66,Start!$C$4:$G$7,MATCH(D66,Start!$D$3:$G$3,0)+1,FALSE)","v":{"$error":"#N/A"}},null,null,null,{"$f":"VLOOKUP(F66,Start!$C$4:$G$7,MATCH(G66,Start!$D$3:$G$3,0)+1,FALSE)","v":{"$error":"#N/A"}}]
[{"$f":"\"R\"&B67","v":"R65"},65,{"$f":"IFERROR(VLOOKUP(L67,Start!$D$18:$E$21,2,FALSE),0)","v":0},{"$f":"IFERROR(VLOOKUP(K67,Start!$F$18:$G$21,2,FALSE),0)","v":0},{"$f":"IFERROR(VLOOKUP(N67,Start!$H$18:$I$21,2,FALSE),0)","v":0},{"$f":"IFERROR(VLOOKUP(Q67,Start!$D$18:$E$21,2,FALSE),0)","v":0},{"$f":"IFERROR(VLOOKUP(P67,Start!$F$18:$G$21,2,FALSE),0)","v":0},{"$f":"IFERROR(VLOOKUP(R67,Start!$H$18:$I$21,2,FALSE),0)","v":0},null,null,null,null,null,{"$f":"VLOOKUP(C67,Start!$C$4:$G$7,MATCH(D67,Start!$D$3:$G$3,0)+1,FALSE)","v":{"$error":"#N/A"}},null,null,null,{"$f":"VLOOKUP(F67,Start!$C$4:$G$7,MATCH(G67,Start!$D$3:$G$3,0)+1,FALSE)","v":{"$error":"#N/A"}}]
[{"$f":"\"R\"&B68","v":"R66"},66,{"$f":"IFERROR(VLOOKUP(L68,Start!$D$18:$E$21,2,FALSE),0)","v":0},{"$f":"IFERROR(VLOOKUP(K68,Start!$F$18:$G$21,2,FALSE),0)","v":0},{"$f":"IFERROR(VLOOKUP(N68,Start!$H$18:$I$21,2,FALSE),0)","v":0},{"$f":"IFERROR(VLOOKUP(Q68,Start!$D$18:$E$21,2,FALSE),0)","v":0},{"$f":"IFERROR(VLOOKUP(P68,Start!$F$18:$G$21,2,FALSE),0)","v":0},{"$f":"IFERROR(VLOOKUP(R68,Start!$H$18:$I$21,2,FALSE),0)","v":0},null,null,null,null,null,{"$f":"VLOOKUP(C68,Start!$C$4:$G$7,MATCH(D68,Start!$D$3:$G$3,0)+1,FALSE)","v":{"$error":"#N/A"}},null,null,null,{"$f":"VLOOKUP(F68,Start!$C$4:$G$7,MATCH(G68,Start!$D$3:$G$3,0)+1,FALSE)","v":{"$error":"#N/A"}}]
[{"$f":"\"R\"&B69","v":"R67"},67,{"$f":"IFERROR(VLOOKUP(L69,Start!$D$18:$E$21,2,FALSE),0)","v":0},{"$f":"IFERROR(VLOOKUP(K69,Start!$F$18:$G$21,2,FALSE),0)","v":0},{"$f":"IFERROR(VLOOKUP(N69,Start!$H$18:$I$21,2,FALSE),0)","v":0},{"$f":"IFERROR(VLOOKUP(Q69,Start!$D$18:$E$21,2,FALSE),0)","v":0},{"$f":"IFERROR(VLOOKUP(P69,Start!$F$18:$G$21,2,FALSE),0)","v":0},{"$f":"IFERROR(VLOOKUP(R69,Start!$H$18:$I$21,2,FALSE),0)","v":0},null,null,null,null,null,{"$f":"VLOOKUP(C69,Start!$C$4:$G$7,MATCH(D69,Start!$D$3:$G$3,0)+1,FALSE)","v":{"$error":"#N/A"}},null,null,null,{"$f":"VLOOKUP(F69,Start!$C$4:$G$7,MATCH(G69,Start!$D$3:$G$3,0)+1,FALSE)","v":{"$error":"#N/A"}}]
[{"$f":"\"R\"&B70","v":"R68"},68,{"$f":"IFERROR(VLOOKUP(L70,Start!$D$18:$E$21,2,FALSE),0)","v":0},{"$f":"IFERROR(VLOOKUP(K70,Start!$F$18:$G$21,2,FALSE),0)","v":0},{"$f":"IFERROR(VLOOKUP(N70,Start!$H$18:$I$21,2,FALSE),0)","v":0},{"$f":"IFERROR(VLOOKUP(Q70,Start!$D$18:$E$21,2,FALSE),0)","v":0},{"$f":"IFERROR(VLOOKUP(P70,Start!$F$18:$G$21,2,FALSE),0)","v":0},{"$f":"IFERROR(VLOOKUP(R70,Start!$H$18:$I$21,2,FALSE),0)","v":0},null,null,null,null,null,{"$f":"VLOOKUP(C70,Start!$C$4:$G$7,MATCH(D70,Start!$D$3:$G$3,0)+1,FALSE)","v":{"$error":"#N/A"}},null,null,null,{"$f":"VLOOKUP(F70,Start!$C$4:$G$7,MATCH(G70,Start!$D$3:$G$3,0)+1,FALSE)","v":{"$error":"#N/A"}}]
[{"$f":"\"R\"&B71","v":"R69"},69,{"$f":"IFERROR(VLOOKUP(L71,Start!$D$18:$E$21,2,FALSE),0)","v":0},{"$f":"IFERROR(VLOOKUP(K71,Start!$F$18:$G$21,2,FALSE),0)","v":0},{"$f":"IFERROR(VLOOKUP(N71,Start!$H$18:$I$21,2,FALSE),0)","v":0},{"$f":"IFERROR(VLOOKUP(Q71,Start!$D$18:$E$21,2,FALSE),0)","v":0},{"$f":"IFERROR(VLOOKUP(P71,Start!$F$18:$G$21,2,FALSE),0)","v":0},{"$f":"IFERROR(VLOOKUP(R71,Start!$H$18:$I$21,2,FALSE),0)","v":0},null,null,null,null,null,{"$f":"VLOOKUP(C71,Start!$C$4:$G$7,MATCH(D71,Start!$D$3:$G$3,0)+1,FALSE)","v":{"$error":"#N/A"}},null,null,null,{"$f":"VLOOKUP(F71,Start!$C$4:$G$7,MATCH(G71,Start!$D$3:$G$3,0)+1,FALSE)","v":{"$error":"#N/A"}}]
[{"$f":"\"R\"&B72","v":"R70"},70,{"$f":"IFERROR(VLOOKUP(L72,Start!$D$18:$E$21,2,FALSE),0)","v":0},{"$f":"IFERROR(VLOOKUP(K72,Start!$F$18:$G$21,2,FALSE),0)","v":0},{"$f":"IFERROR(VLOOKUP(N72,Start!$H$18:$I$21,2,FALSE),0)","v":0},{"$f":"IFERROR(VLOOKUP(Q72,Start!$D$18:$E$21,2,FALSE),0)","v":0},{"$f":"IFERROR(VLOOKUP(P72,Start!$F$18:$G$21,2,FALSE),0)","v":0},{"$f":"IFERROR(VLOOKUP(R72,Start!$H$18:$I$21,2,FALSE),0)","v":0},null,null,null,null,null,{"$f":"VLOOKUP(C72,Start!$C$4:$G$7,MATCH(D72,Start!$D$3:$G$3,0)+1,FALSE)","v":{"$error":"#N/A"}},null,null,null,{"$f":"VLOOKUP(F72,Start!$C$4:$G$7,MATCH(G72,Start!$D$3:$G$3,0)+1,FALSE)","v":{"$error":"#N/A"}}]
[{"$f":"\"R\"&B73","v":"R71"},71,{"$f":"IFERROR(VLOOKUP(L73,Start!$D$18:$E$21,2,FALSE),0)","v":0},{"$f":"IFERROR(VLOOKUP(K73,Start!$F$18:$G$21,2,FALSE),0)","v":0},{"$f":"IFERROR(VLOOKUP(N73,Start!$H$18:$I$21,2,FALSE),0)","v":0},{"$f":"IFERROR(VLOOKUP(Q73,Start!$D$18:$E$21,2,FALSE),0)","v":0},{"$f":"IFERROR(VLOOKUP(P73,Start!$F$18:$G$21,2,FALSE),0)","v":0},{"$f":"IFERROR(VLOOKUP(R73,Start!$H$18:$I$21,2,FALSE),0)","v":0},null,null,null,null,null,{"$f":"VLOOKUP(C73,Start!$C$4:$G$7,MATCH(D73,Start!$D$3:$G$3,0)+1,FALSE)","v":{"$error":"#N/A"}},null,null,null,{"$f":"VLOOKUP(F73,Start!$C$4:$G$7,MATCH(G73,Start!$D$3:$G$3,0)+1,FALSE)","v":{"$error":"#N/A"}}]
[{"$f":"\"R\"&B74","v":"R72"},72,{"$f":"IFERROR(VLOOKUP(L74,Start!$D$18:$E$21,2,FALSE),0)","v":0},{"$f":"IFERROR(VLOOKUP(K74,Start!$F$18:$G$21,2,FALSE),0)","v":0},{"$f":"IFERROR(VLOOKUP(N74,Start!$H$18:$I$21,2,FALSE),0)","v":0},{"$f":"IFERROR(VLOOKUP(Q74,Start!$D$18:$E$21,2,FALSE),0)","v":0},{"$f":"IFERROR(VLOOKUP(P74,Start!$F$18:$G$21,2,FALSE),0)","v":0},{"$f":"IFERROR(VLOOKUP(R74,Start!$H$18:$I$21,2,FALSE),0)","v":0},null,null,null,null,null,{"$f":"VLOOKUP(C74,Start!$C$4:$G$7,MATCH(D74,Start!$D$3:$G$3,0)+1,FALSE)","v":{"$error":"#N/A"}},null,null,null,{"$f":"VLOOKUP(F74,Start!$C$4:$G$7,MATCH(G74,Start!$D$3:$G$3,0)+1,FALSE)","v":{"$error":"#N/A"}}]
[{"$f":"\"R\"&B75","v":"R73"},73,{"$f":"IFERROR(VLOOKUP(L75,Start!$D$18:$E$21,2,FALSE),0)","v":0},{"$f":"IFERROR(VLOOKUP(K75,Start!$F$18:$G$21,2,FALSE),0)","v":0},{"$f":"IFERROR(VLOOKUP(N75,Start!$H$18:$I$21,2,FALSE),0)","v":0},{"$f":"IFERROR(VLOOKUP(Q75,Start!$D$18:$E$21,2,FALSE),0)","v":0},{"$f":"IFERROR(VLOOKUP(P75,Start!$F$18:$G$21,2,FALSE),0)","v":0},{"$f":"IFERROR(VLOOKUP(R75,Start!$H$18:$I$21,2,FALSE),0)","v":0},null,null,null,null,null,{"$f":"VLOOKUP(C75,Start!$C$4:$G$7,MATCH(D75,Start!$D$3:$G$3,0)+1,FALSE)","v":{"$error":"#N/A"}},null,null,null,{"$f":"VLOOKUP(F75,Start!$C$4:$G$7,MATCH(G75,Start!$D$3:$G$3,0)+1,FALSE)","v":{"$error":"#N/A"}}]
[{"$f":"\"R\"&B76","v":"R74"},74,{"$f":"IFERROR(VLOOKUP(L76,Start!$D$18:$E$21,2,FALSE),0)","v":0},{"$f":"IFERROR(VLOOKUP(K76,Start!$F$18:$G$21,2,FALSE),0)","v":0},{"$f":"IFERROR(VLOOKUP(N76,Start!$H$18:$I$21,2,FALSE),0)","v":0},{"$f":"IFERROR(VLOOKUP(Q76,Start!$D$18:$E$21,2,FALSE),0)","v":0},{"$f":"IFERROR(VLOOKUP(P76,Start!$F$18:$G$21,2,FALSE),0)","v":0},{"$f":"IFERROR(VLOOKUP(R76,Start!$H$18:$I$21,2,FALSE),0)","v":0},null,null,null,null,null,{"$f":"VLOOKUP(C76,Start!$C$4:$G$7,MATCH(D76,Start!$D$3:$G$3,0)+1,FALSE)","v":{"$error":"#N/A"}},null,null,null,{"$f":"VLOOKUP(F76,Start!$C$4:$G$7,MATCH(G76,Start!$D$3:$G$3,0)+1,FALSE)","v":{"$error":"#N/A"}}]
[{"$f":"\"R\"&B77","v":"R75"},75,{"$f":"IFERROR(VLOOKUP(L77,Start!$D$18:$E$21,2,FALSE),0)","v":0},{"$f":"IFERROR(VLOOKUP(K77,Start!$F$18:$G$21,2,FALSE),0)","v":0},{"$f":"IFERROR(VLOOKUP(N77,Start!$H$18:$I$21,2,FALSE),0)","v":0},{"$f":"IFERROR(VLOOKUP(Q77,Start!$D$18:$E$21,2,FALSE),0)","v":0},{"$f":"IFERROR(VLOOKUP(P77,Start!$F$18:$G$21,2,FALSE),0)","v":0},{"$f":"IFERROR(VLOOKUP(R77,Start!$H$18:$I$21,2,FALSE),0)","v":0},null,null,null,null,null,{"$f":"VLOOKUP(C77,Start!$C$4:$G$7,MATCH(D77,Start!$D$3:$G$3,0)+1,FALSE)","v":{"$error":"#N/A"}},null,null,null,{"$f":"VLOOKUP(F77,Start!$C$4:$G$7,MATCH(G77,Start!$D$3:$G$3,0)+1,FALSE)","v":{"$error":"#N/A"}}]
[{"$f":"\"R\"&B78","v":"R76"},76,{"$f":"IFERROR(VLOOKUP(L78,Start!$D$18:$E$21,2,FALSE),0)","v":0},{"$f":"IFERROR(VLOOKUP(K78,Start!$F$18:$G$21,2,FALSE),0)","v":0},{"$f":"IFERROR(VLOOKUP(N78,Start!$H$18:$I$21,2,FALSE),0)","v":0},{"$f":"IFERROR(VLOOKUP(Q78,Start!$D$18:$E$21,2,FALSE),0)","v":0},{"$f":"IFERROR(VLOOKUP(P78,Start!$F$18:$G$21,2,FALSE),0)","v":0},{"$f":"IFERROR(VLOOKUP(R78,Start!$H$18:$I$21,2,FALSE),0)","v":0},null,null,null,null,null,{"$f":"VLOOKUP(C78,Start!$C$4:$G$7,MATCH(D78,Start!$D$3:$G$3,0)+1,FALSE)","v":{"$error":"#N/A"}},null,null,null,{"$f":"VLOOKUP(F78,Start!$C$4:$G$7,MATCH(G78,Start!$D$3:$G$3,0)+1,FALSE)","v":{"$error":"#N/A"}}]
[{"$f":"\"R\"&B79","v":"R77"},77,{"$f":"IFERROR(VLOOKUP(L79,Start!$D$18:$E$21,2,FALSE),0)","v":0},{"$f":"IFERROR(VLOOKUP(K79,Start!$F$18:$G$21,2,FALSE),0)","v":0},{"$f":"IFERROR(VLOOKUP(N79,Start!$H$18:$I$21,2,FALSE),0)","v":0},{"$f":"IFERROR(VLOOKUP(Q79,Start!$D$18:$E$21,2,FALSE),0)","v":0},{"$f":"IFERROR(VLOOKUP(P79,Start!$F$18:$G$21,2,FALSE),0)","v":0},{"$f":"IFERROR(VLOOKUP(R79,Start!$H$18:$I$21,2,FALSE),0)","v":0},null,null,null,null,null,{"$f":"VLOOKUP(C79,Start!$C$4:$G$7,MATCH(D79,Start!$D$3:$G$3,0)+1,FALSE)","v":{"$error":"#N/A"}},null,null,null,{"$f":"VLOOKUP(F79,Start!$C$4:$G$7,MATCH(G79,Start!$D$3:$G$3,0)+1,FALSE)","v":{"$error":"#N/A"}}]
[{"$f":"\"R\"&B80","v":"R78"},78,{"$f":"IFERROR(VLOOKUP(L80,Start!$D$18:$E$21,2,FALSE),0)","v":0},{"$f":"IFERROR(VLOOKUP(K80,Start!$F$18:$G$21,2,FALSE),0)","v":0},{"$f":"IFERROR(VLOOKUP(N80,Start!$H$18:$I$21,2,FALSE),0)","v":0},{"$f":"IFERROR(VLOOKUP(Q80,Start!$D$18:$E$21,2,FALSE),0)","v":0},{"$f":"IFERROR(VLOOKUP(P80,Start!$F$18:$G$21,2,FALSE),0)","v":0},{"$f":"IFERROR(VLOOKUP(R80,Start!$H$18:$I$21,2,FALSE),0)","v":0},null,null,null,null,null,{"$f":"VLOOKUP(C80,Start!$C$4:$G$7,MATCH(D80,Start!$D$3:$G$3,0)+1,FALSE)","v":{"$error":"#N/A"}},null,null,null,{"$f":"VLOOKUP(F80,Start!$C$4:$G$7,MATCH(G80,Start!$D$3:$G$3,0)+1,FALSE)","v":{"$error":"#N/A"}}]
[{"$f":"\"R\"&B81","v":"R79"},79,{"$f":"IFERROR(VLOOKUP(L81,Start!$D$18:$E$21,2,FALSE),0)","v":0},{"$f":"IFERROR(VLOOKUP(K81,Start!$F$18:$G$21,2,FALSE),0)","v":0},{"$f":"IFERROR(VLOOKUP(N81,Start!$H$18:$I$21,2,FALSE),0)","v":0},{"$f":"IFERROR(VLOOKUP(Q81,Start!$D$18:$E$21,2,FALSE),0)","v":0},{"$f":"IFERROR(VLOOKUP(P81,Start!$F$18:$G$21,2,FALSE),0)","v":0},{"$f":"IFERROR(VLOOKUP(R81,Start!$H$18:$I$21,2,FALSE),0)","v":0},null,null,null,null,null,{"$f":"VLOOKUP(C81,Start!$C$4:$G$7,MATCH(D81,Start!$D$3:$G$3,0)+1,FALSE)","v":{"$error":"#N/A"}},null,null,null,{"$f":"VLOOKUP(F81,Start!$C$4:$G$7,MATCH(G81,Start!$D$3:$G$3,0)+1,FALSE)","v":{"$error":"#N/A"}}]
[{"$f":"\"R\"&B82","v":"R80"},80,{"$f":"IFERROR(VLOOKUP(L82,Start!$D$18:$E$21,2,FALSE),0)","v":0},{"$f":"IFERROR(VLOOKUP(K82,Start!$F$18:$G$21,2,FALSE),0)","v":0},{"$f":"IFERROR(VLOOKUP(N82,Start!$H$18:$I$21,2,FALSE),0)","v":0},{"$f":"IFERROR(VLOOKUP(Q82,Start!$D$18:$E$21,2,FALSE),0)","v":0},{"$f":"IFERROR(VLOOKUP(P82,Start!$F$18:$G$21,2,FALSE),0)","v":0},{"$f":"IFERROR(VLOOKUP(R82,Start!$H$18:$I$21,2,FALSE),0)","v":0},null,null,null,null,null,{"$f":"VLOOKUP(C82,Start!$C$4:$G$7,MATCH(D82,Start!$D$3:$G$3,0)+1,FALSE)","v":{"$error":"#N/A"}},null,null,null,{"$f":"VLOOKUP(F82,Start!$C$4:$G$7,MATCH(G82,Start!$D$3:$G$3,0)+1,FALSE)","v":{"$error":"#N/A"}}]
[{"$f":"\"R\"&B83","v":"R81"},81,{"$f":"IFERROR(VLOOKUP(L83,Start!$D$18:$E$21,2,FALSE),0)","v":0},{"$f":"IFERROR(VLOOKUP(K83,Start!$F$18:$G$21,2,FALSE),0)","v":0},{"$f":"IFERROR(VLOOKUP(N83,Start!$H$18:$I$21,2,FALSE),0)","v":0},{"$f":"IFERROR(VLOOKUP(Q83,Start!$D$18:$E$21,2,FALSE),0)","v":0},{"$f":"IFERROR(VLOOKUP(P83,Start!$F$18:$G$21,2,FALSE),0)","v":0},{"$f":"IFERROR(VLOOKUP(R83,Start!$H$18:$I$21,2,FALSE),0)","v":0},null,null,null,null,null,{"$f":"VLOOKUP(C83,Start!$C$4:$G$7,MATCH(D83,Start!$D$3:$G$3,0)+1,FALSE)","v":{"$error":"#N/A"}},null,null,null,{"$f":"VLOOKUP(F83,Start!$C$4:$G$7,MATCH(G83,Start!$D$3:$G$3,0)+1,FALSE)","v":{"$error":"#N/A"}}]
[{"$f":"\"R\"&B84","v":"R82"},82,{"$f":"IFERROR(VLOOKUP(L84,Start!$D$18:$E$21,2,FALSE),0)","v":0},{"$f":"IFERROR(VLOOKUP(K84,Start!$F$18:$G$21,2,FALSE),0)","v":0},{"$f":"IFERROR(VLOOKUP(N84,Start!$H$18:$I$21,2,FALSE),0)","v":0},{"$f":"IFERROR(VLOOKUP(Q84,Start!$D$18:$E$21,2,FALSE),0)","v":0},{"$f":"IFERROR(VLOOKUP(P84,Start!$F$18:$G$21,2,FALSE),0)","v":0},{"$f":"IFERROR(VLOOKUP(R84,Start!$H$18:$I$21,2,FALSE),0)","v":0},null,null,null,null,null,{"$f":"VLOOKUP(C84,Start!$C$4:$G$7,MATCH(D84,Start!$D$3:$G$3,0)+1,FALSE)","v":{"$error":"#N/A"}},null,null,null,{"$f":"VLOOKUP(F84,Start!$C$4:$G$7,MATCH(G84,Start!$D$3:$G$3,0)+1,FALSE)","v":{"$error":"#N/A"}}]
[{"$f":"\"R\"&B85","v":"R83"},83,{"$f":"IFERROR(VLOOKUP(L85,Start!$D$18:$E$21,2,FALSE),0)","v":0},{"$f":"IFERROR(VLOOKUP(K85,Start!$F$18:$G$21,2,FALSE),0)","v":0},{"$f":"IFERROR(VLOOKUP(N85,Start!$H$18:$I$21,2,FALSE),0)","v":0},{"$f":"IFERROR(VLOOKUP(Q85,Start!$D$18:$E$21,2,FALSE),0)","v":0},{"$f":"IFERROR(VLOOKUP(P85,Start!$F$18:$G$21,2,FALSE),0)","v":0},{"$f":"IFERROR(VLOOKUP(R85,Start!$H$18:$I$21,2,FALSE),0)","v":0},null,null,null,null,null,{"$f":"VLOOKUP(C85,Start!$C$4:$G$7,MATCH(D85,Start!$D$3:$G$3,0)+1,FALSE)","v":{"$error":"#N/A"}},null,null,null,{"$f":"VLOOKUP(F85,Start!$C$4:$G$7,MATCH(G85,Start!$D$3:$G$3,0)+1,FALSE)","v":{"$error":"#N/A"}}]
[{"$f":"\"R\"&B86","v":"R84"},84,{"$f":"IFERROR(VLOOKUP(L86,Start!$D$18:$E$21,2,FALSE),0)","v":0},{"$f":"IFERROR(VLOOKUP(K86,Start!$F$18:$G$21,2,FALSE),0)","v":0},{"$f":"IFERROR(VLOOKUP(N86,Start!$H$18:$I$21,2,FALSE),0)","v":0},{"$f":"IFERROR(VLOOKUP(Q86,Start!$D$18:$E$21,2,FALSE),0)","v":0},{"$f":"IFERROR(VLOOKUP(P86,Start!$F$18:$G$21,2,FALSE),0)","v":0},{"$f":"IFERROR(VLOOKUP(R86,Start!$H$18:$I$21,2,FALSE),0)","v":0},null,null,null,null,null,{"$f":"VLOOKUP(C86,Start!$C$4:$G$7,MATCH(D86,Start!$D$3:$G$3,0)+1,FALSE)","v":{"$error":"#N/A"}},null,null,null,{"$f":"VLOOKUP(F86,Start!$C$4:$G$7,MATCH(G86,Start!$D$3:$G$3,0)+1,FALSE)","v":{"$error":"#N/A"}}]
[{"$f":"\"R\"&B87","v":"R85"},85,{"$f":"IFERROR(VLOOKUP(L87,Start!$D$18:$E$21,2,FALSE),0)","v":0},{"$f":"IFERROR(VLOOKUP(K87,Start!$F$18:$G$21,2,FALSE),0)","v":0},{"$f":"IFERROR(VLOOKUP(N87,Start!$H$18:$I$21,2,FALSE),0)","v":0},{"$f":"IFERROR(VLOOKUP(Q87,Start!$D$18:$E$21,2,FALSE),0)","v":0},{"$f":"IFERROR(VLOOKUP(P87,Start!$F$18:$G$21,2,FALSE),0)","v":0},{"$f":"IFERROR(VLOOKUP(R87,Start!$H$18:$I$21,2,FALSE),0)","v":0},null,null,null,null,null,{"$f":"VLOOKUP(C87,Start!$C$4:$G$7,MATCH(D87,Start!$D$3:$G$3,0)+1,FALSE)","v":{"$error":"#N/A"}},null,null,null,{"$f":"VLOOKUP(F87,Start!$C$4:$G$7,MATCH(G87,Start!$D$3:$G$3,0)+1,FALSE)","v":{"$error":"#N/A"}}]
[{"$f":"\"R\"&B88","v":"R86"},86,{"$f":"IFERROR(VLOOKUP(L88,Start!$D$18:$E$21,2,FALSE),0)","v":0},{"$f":"IFERROR(VLOOKUP(K88,Start!$F$18:$G$21,2,FALSE),0)","v":0},{"$f":"IFERROR(VLOOKUP(N88,Start!$H$18:$I$21,2,FALSE),0)","v":0},{"$f":"IFERROR(VLOOKUP(Q88,Start!$D$18:$E$21,2,FALSE),0)","v":0},{"$f":"IFERROR(VLOOKUP(P88,Start!$F$18:$G$21,2,FALSE),0)","v":0},{"$f":"IFERROR(VLOOKUP(R88,Start!$H$18:$I$21,2,FALSE),0)","v":0},null,null,null,null,null,{"$f":"VLOOKUP(C88,Start!$C$4:$G$7,MATCH(D88,Start!$D$3:$G$3,0)+1,FALSE)","v":{"$error":"#N/A"}},null,null,null,{"$f":"VLOOKUP(F88,Start!$C$4:$G$7,MATCH(G88,Start!$D$3:$G$3,0)+1,FALSE)","v":{"$error":"#N/A"}}]
[{"$f":"\"R\"&B89","v":"R87"},87,{"$f":"IFERROR(VLOOKUP(L89,Start!$D$18:$E$21,2,FALSE),0)","v":0},{"$f":"IFERROR(VLOOKUP(K89,Start!$F$18:$G$21,2,FALSE),0)","v":0},{"$f":"IFERROR(VLOOKUP(N89,Start!$H$18:$I$21,2,FALSE),0)","v":0},{"$f":"IFERROR(VLOOKUP(Q89,Start!$D$18:$E$21,2,FALSE),0)","v":0},{"$f":"IFERROR(VLOOKUP(P89,Start!$F$18:$G$21,2,FALSE),0)","v":0},{"$f":"IFERROR(VLOOKUP(R89,Start!$H$18:$I$21,2,FALSE),0)","v":0},null,null,null,null,null,{"$f":"VLOOKUP(C89,Start!$C$4:$G$7,MATCH(D89,Start!$D$3:$G$3,0)+1,FALSE)","v":{"$error":"#N/A"}},null,null,null,{"$f":"VLOOKUP(F89,Start!$C$4:$G$7,MATCH(G89,Start!$D$3:$G$3,0)+1,FALSE)","v":{"$error":"#N/A"}}]
[{"$f":"\"R\"&B90","v":"R88"},88,{"$f":"IFERROR(VLOOKUP(L90,Start!$D$18:$E$21,2,FALSE),0)","v":0},{"$f":"IFERROR(VLOOKUP(K90,Start!$F$18:$G$21,2,FALSE),0)","v":0},{"$f":"IFERROR(VLOOKUP(N90,Start!$H$18:$I$21,2,FALSE),0)","v":0},{"$f":"IFERROR(VLOOKUP(Q90,Start!$D$18:$E$21,2,FALSE),0)","v":0},{"$f":"IFERROR(VLOOKUP(P90,Start!$F$18:$G$21,2,FALSE),0)","v":0},{"$f":"IFERROR(VLOOKUP(R90,Start!$H$18:$I$21,2,FALSE),0)","v":0},null,null,null,null,null,{"$f":"VLOOKUP(C90,Start!$C$4:$G$7,MATCH(D90,Start!$D$3:$G$3,0)+1,FALSE)","v":{"$error":"#N/A"}},null,null,null,{"$f":"VLOOKUP(F90,Start!$C$4:$G$7,MATCH(G90,Start!$D$3:$G$3,0)+1,FALSE)","v":{"$error":"#N/A"}}]
[{"$f":"\"R\"&B91","v":"R89"},89,{"$f":"IFERROR(VLOOKUP(L91,Start!$D$18:$E$21,2,FALSE),0)","v":0},{"$f":"IFERROR(VLOOKUP(K91,Start!$F$18:$G$21,2,FALSE),0)","v":0},{"$f":"IFERROR(VLOOKUP(N91,Start!$H$18:$I$21,2,FALSE),0)","v":0},{"$f":"IFERROR(VLOOKUP(Q91,Start!$D$18:$E$21,2,FALSE),0)","v":0},{"$f":"IFERROR(VLOOKUP(P91,Start!$F$18:$G$21,2,FALSE),0)","v":0},{"$f":"IFERROR(VLOOKUP(R91,Start!$H$18:$I$21,2,FALSE),0)","v":0},null,null,null,null,null,{"$f":"VLOOKUP(C91,Start!$C$4:$G$7,MATCH(D91,Start!$D$3:$G$3,0)+1,FALSE)","v":{"$error":"#N/A"}},null,null,null,{"$f":"VLOOKUP(F91,Start!$C$4:$G$7,MATCH(G91,Start!$D$3:$G$3,0)+1,FALSE)","v":{"$error":"#N/A"}}]
[{"$f":"\"R\"&B92","v":"R90"},90,{"$f":"IFERROR(VLOOKUP(L92,Start!$D$18:$E$21,2,FALSE),0)","v":0},{"$f":"IFERROR(VLOOKUP(K92,Start!$F$18:$G$21,2,FALSE),0)","v":0},{"$f":"IFERROR(VLOOKUP(N92,Start!$H$18:$I$21,2,FALSE),0)","v":0},{"$f":"IFERROR(VLOOKUP(Q92,Start!$D$18:$E$21,2,FALSE),0)","v":0},{"$f":"IFERROR(VLOOKUP(P92,Start!$F$18:$G$21,2,FALSE),0)","v":0},{"$f":"IFERROR(VLOOKUP(R92,Start!$H$18:$I$21,2,FALSE),0)","v":0},null,null,null,null,null,{"$f":"VLOOKUP(C92,Start!$C$4:$G$7,MATCH(D92,Start!$D$3:$G$3,0)+1,FALSE)","v":{"$error":"#N/A"}},null,null,null,{"$f":"VLOOKUP(F92,Start!$C$4:$G$7,MATCH(G92,Start!$D$3:$G$3,0)+1,FALSE)","v":{"$error":"#N/A"}}]
[{"$f":"\"R\"&B93","v":"R91"},91,{"$f":"IFERROR(VLOOKUP(L93,Start!$D$18:$E$21,2,FALSE),0)","v":0},{"$f":"IFERROR(VLOOKUP(K93,Start!$F$18:$G$21,2,FALSE),0)","v":0},{"$f":"IFERROR(VLOOKUP(N93,Start!$H$18:$I$21,2,FALSE),0)","v":0},{"$f":"IFERROR(VLOOKUP(Q93,Start!$D$18:$E$21,2,FALSE),0)","v":0},{"$f":"IFERROR(VLOOKUP(P93,Start!$F$18:$G$21,2,FALSE),0)","v":0},{"$f":"IFERROR(VLOOKUP(R93,Start!$H$18:$I$21,2,FALSE),0)","v":0},null,null,null,null,null,{"$f":"VLOOKUP(C93,Start!$C$4:$G$7,MATCH(D93,Start!$D$3:$G$3,0)+1,FALSE)","v":{"$error":"#N/A"}},null,null,null,{"$f":"VLOOKUP(F93,Start!$C$4:$G$7,MATCH(G93,Start!$D$3:$G$3,0)+1,FALSE)","v":{"$error":"#N/A"}}]
[{"$f":"\"R\"&B94","v":"R92"},92,{"$f":"IFERROR(VLOOKUP(L94,Start!$D$18:$E$21,2,FALSE),0)","v":0},{"$f":"IFERROR(VLOOKUP(K94,Start!$F$18:$G$21,2,FALSE),0)","v":0},{"$f":"IFERROR(VLOOKUP(N94,Start!$H$18:$I$21,2,FALSE),0)","v":0},{"$f":"IFERROR(VLOOKUP(Q94,Start!$D$18:$E$21,2,FALSE),0)","v":0},{"$f":"IFERROR(VLOOKUP(P94,Start!$F$18:$G$21,2,FALSE),0)","v":0},{"$f":"IFERROR(VLOOKUP(R94,Start!$H$18:$I$21,2,FALSE),0)","v":0},null,null,null,null,null,{"$f":"VLOOKUP(C94,Start!$C$4:$G$7,MATCH(D94,Start!$D$3:$G$3,0)+1,FALSE)","v":{"$error":"#N/A"}},null,null,null,{"$f":"VLOOKUP(F94,Start!$C$4:$G$7,MATCH(G94,Start!$D$3:$G$3,0)+1,FALSE)","v":{"$error":"#N/A"}}]
[{"$f":"\"R\"&B95","v":"R93"},93,{"$f":"IFERROR(VLOOKUP(L95,Start!$D$18:$E$21,2,FALSE),0)","v":0},{"$f":"IFERROR(VLOOKUP(K95,Start!$F$18:$G$21,2,FALSE),0)","v":0},{"$f":"IFERROR(VLOOKUP(N95,Start!$H$18:$I$21,2,FALSE),0)","v":0},{"$f":"IFERROR(VLOOKUP(Q95,Start!$D$18:$E$21,2,FALSE),0)","v":0},{"$f":"IFERROR(VLOOKUP(P95,Start!$F$18:$G$21,2,FALSE),0)","v":0},{"$f":"IFERROR(VLOOKUP(R95,Start!$H$18:$I$21,2,FALSE),0)","v":0},null,null,null,null,null,{"$f":"VLOOKUP(C95,Start!$C$4:$G$7,MATCH(D95,Start!$D$3:$G$3,0)+1,FALSE)","v":{"$error":"#N/A"}},null,null,null,{"$f":"VLOOKUP(F95,Start!$C$4:$G$7,MATCH(G95,Start!$D$3:$G$3,0)+1,FALSE)","v":{"$error":"#N/A"}}]
[{"$f":"\"R\"&B96","v":"R94"},94,{"$f":"IFERROR(VLOOKUP(L96,Start!$D$18:$E$21,2,FALSE),0)","v":0},{"$f":"IFERROR(VLOOKUP(K96,Start!$F$18:$G$21,2,FALSE),0)","v":0},{"$f":"IFERROR(VLOOKUP(N96,Start!$H$18:$I$21,2,FALSE),0)","v":0},{"$f":"IFERROR(VLOOKUP(Q96,Start!$D$18:$E$21,2,FALSE),0)","v":0},{"$f":"IFERROR(VLOOKUP(P96,Start!$F$18:$G$21,2,FALSE),0)","v":0},{"$f":"IFERROR(VLOOKUP(R96,Start!$H$18:$I$21,2,FALSE),0)","v":0},null,null,null,null,null,{"$f":"VLOOKUP(C96,Start!$C$4:$G$7,MATCH(D96,Start!$D$3:$G$3,0)+1,FALSE)","v":{"$error":"#N/A"}},null,null,null,{"$f":"VLOOKUP(F96,Start!$C$4:$G$7,MATCH(G96,Start!$D$3:$G$3,0)+1,FALSE)","v":{"$error":"#N/A"}}]
[{"$f":"\"R\"&B97","v":"R95"},95,{"$f":"IFERROR(VLOOKUP(L97,Start!$D$18:$E$21,2,FALSE),0)","v":0},{"$f":"IFERROR(VLOOKUP(K97,Start!$F$18:$G$21,2,FALSE),0)","v":0},{"$f":"IFERROR(VLOOKUP(N97,Start!$H$18:$I$21,2,FALSE),0)","v":0},{"$f":"IFERROR(VLOOKUP(Q97,Start!$D$18:$E$21,2,FALSE),0)","v":0},{"$f":"IFERROR(VLOOKUP(P97,Start!$F$18:$G$21,2,FALSE),0)","v":0},{"$f":"IFERROR(VLOOKUP(R97,Start!$H$18:$I$21,2,FALSE),0)","v":0},null,null,null,null,null,{"$f":"VLOOKUP(C97,Start!$C$4:$G$7,MATCH(D97,Start!$D$3:$G$3,0)+1,FALSE)","v":{"$error":"#N/A"}},null,null,null,{"$f":"VLOOKUP(F97,Start!$C$4:$G$7,MATCH(G97,Start!$D$3:$G$3,0)+1,FALSE)","v":{"$error":"#N/A"}}]
[{"$f":"\"R\"&B98","v":"R96"},96,{"$f":"IFERROR(VLOOKUP(L98,Start!$D$18:$E$21,2,FALSE),0)","v":0},{"$f":"IFERROR(VLOOKUP(K98,Start!$F$18:$G$21,2,FALSE),0)","v":0},{"$f":"IFERROR(VLOOKUP(N98,Start!$H$18:$I$21,2,FALSE),0)","v":0},{"$f":"IFERROR(VLOOKUP(Q98,Start!$D$18:$E$21,2,FALSE),0)","v":0},{"$f":"IFERROR(VLOOKUP(P98,Start!$F$18:$G$21,2,FALSE),0)","v":0},{"$f":"IFERROR(VLOOKUP(R98,Start!$H$18:$I$21,2,FALSE),0)","v":0},null,null,null,null,null,{"$f":"VLOOKUP(C98,Start!$C$4:$G$7,MATCH(D98,Start!$D$3:$G$3,0)+1,FALSE)","v":{"$error":"#N/A"}},null,null,null,{"$f":"VLOOKUP(F98,Start!$C$4:$G$7,MATCH(G98,Start!$D$3:$G$3,0)+1,FALSE)","v":{"$error":"#N/A"}}]
[{"$f":"\"R\"&B99","v":"R97"},97,{"$f":"IFERROR(VLOOKUP(L99,Start!$D$18:$E$21,2,FALSE),0)","v":0},{"$f":"IFERROR(VLOOKUP(K99,Start!$F$18:$G$21,2,FALSE),0)","v":0},{"$f":"IFERROR(VLOOKUP(N99,Start!$H$18:$I$21,2,FALSE),0)","v":0},{"$f":"IFERROR(VLOOKUP(Q99,Start!$D$18:$E$21,2,FALSE),0)","v":0},{"$f":"IFERROR(VLOOKUP(P99,Start!$F$18:$G$21,2,FALSE),0)","v":0},{"$f":"IFERROR(VLOOKUP(R99,Start!$H$18:$I$21,2,FALSE),0)","v":0},null,null,null,null,null,{"$f":"VLOOKUP(C99,Start!$C$4:$G$7,MATCH(D99,Start!$D$3:$G$3,0)+1,FALSE)","v":{"$error":"#N/A"}},null,null,null,{"$f":"VLOOKUP(F99,Start!$C$4:$G$7,MATCH(G99,Start!$D$3:$G$3,0)+1,FALSE)","v":{"$error":"#N/A"}}]
[{"$f":"\"R\"&B100","v":"R98"},98,{"$f":"IFERROR(VLOOKUP(L100,Start!$D$18:$E$21,2,FALSE),0)","v":0},{"$f":"IFERROR(VLOOKUP(K100,Start!$F$18:$G$21,2,FALSE),0)","v":0},{"$f":"IFERROR(VLOOKUP(N100,Start!$H$18:$I$21,2,FALSE),0)","v":0},{"$f":"IFERROR(VLOOKUP(Q100,Start!$D$18:$E$21,2,FALSE),0)","v":0},{"$f":"IFERROR(VLOOKUP(P100,Start!$F$18:$G$21,2,FALSE),0)","v":0},{"$f":"IFERROR(VLOOKUP(R100,Start!$H$18:$I$21,2,FALSE),0)","v":0},null,null,null,null,null,{"$f":"VLOOKUP(C100,Start!$C$4:$G$7,MATCH(D100,Start!$D$3:$G$3,0)+1,FALSE)","v":{"$error":"#N/A"}},null,null,null,{"$f":"VLOOKUP(F100,Start!$C$4:$G$7,MATCH(G100,Start!$D$3:$G$3,0)+1,FALSE)","v":{"$error":"#N/A"}}]
[{"$f":"\"R\"&B101","v":"R99"},99,{"$f":"IFERROR(VLOOKUP(L101,Start!$D$18:$E$21,2,FALSE),0)","v":0},{"$f":"IFERROR(VLOOKUP(K101,Start!$F$18:$G$21,2,FALSE),0)","v":0},{"$f":"IFERROR(VLOOKUP(N101,Start!$H$18:$I$21,2,FALSE),0)","v":0},{"$f":"IFERROR(VLOOKUP(Q101,Start!$D$18:$E$21,2,FALSE),0)","v":0},{"$f":"IFERROR(VLOOKUP(P101,Start!$F$18:$G$21,2,FALSE),0)","v":0},{"$f":"IFERROR(VLOOKUP(R101,Start!$H$18:$I$21,2,FALSE),0)","v":0},null,null,null,null,null,{"$f":"VLOOKUP(C101,Start!$C$4:$G$7,MATCH(D101,Start!$D$3:$G$3,0)+1,FALSE)","v":{"$error":"#N/A"}},null,null,null,{"$f":"VLOOKUP(F101,Start!$C$4:$G$7,MATCH(G101,Start!$D$3:$G$3,0)+1,FALSE)","v":{"$error":"#N/A"}}]
[{"$f":"\"R\"&B102","v":"R100"},100,{"$f":"IFERROR(VLOOKUP(L102,Start!$D$18:$E$21,2,FALSE),0)","v":0},{"$f":"IFERROR(VLOOKUP(K102,Start!$F$18:$G$21,2,FALSE),0)","v":0},{"$f":"IFERROR(VLOOKUP(N102,Start!$H$18:$I$21,2,FALSE),0)","v":0},{"$f":"IFERROR(VLOOKUP(Q102,Start!$D$18:$E$21,2,FALSE),0)","v":0},{"$f":"IFERROR(VLOOKUP(P102,Start!$F$18:$G$21,2,FALSE),0)","v":0},{"$f":"IFERROR(VLOOKUP(R102,Start!$H$18:$I$21,2,FALSE),0)","v":0},null,null,null,null,null,{"$f":"VLOOKUP(C102,Start!$C$4:$G$7,MATCH(D102,Start!$D$3:$G$3,0)+1,FALSE)","v":{"$error":"#N/A"}},null,null,null,{"$f":"VLOOKUP(F102,Start!$C$4:$G$7,MATCH(G102,Start!$D$3:$G$3,0)+1,FALSE)","v":{"$error":"#N/A"}}]

{"sheet":"Matrise","index":2,"n_rows":18,"n_cols":7,"rows_kept":18,"cut":false,"hidden":true,"merged":[]}
[]
[null,null,null,"Risiko før tiltak"]
[null,null,null,1,2,3,4]
[null,{"$f":"Start!$D$21","v":"Svært høy"},4,{"$f":"ProbSevScore($C4,$D$3,Risikovurdering!$A$3:$A$102)","v":""},{"$f":"ProbSevScore($C4,$E$3,Risikovurdering!$A$3:$A$102)","v":""},{"$f":"ProbSevScore($C4,$F$3,Risikovurdering!$A$3:$A$102)","v":"R1"},{"$f":"ProbSevScore($C4,$G$3,Risikovurdering!$A$3:$A$102)","v":""}]
[null,{"$f":"Start!$D$20","v":"Høy"},3,{"$f":"ProbSevScore($C5,$D$3,Risikovurdering!$A$3:$A$102)","v":""},{"$f":"ProbSevScore($C5,$E$3,Risikovurdering!$A$3:$A$102)","v":""},{"$f":"ProbSevScore($C5,$F$3,Risikovurdering!$A$3:$A$102)","v":""},{"$f":"ProbSevScore($C5,$G$3,Risikovurdering!$A$3:$A$102)","v":""}]
[null,{"$f":"Start!$D$19","v":"Moderat"},2,{"$f":"ProbSevScore($C6,$D$3,Risikovurdering!$A$3:$A$102)","v":""},{"$f":"ProbSevScore($C6,$E$3,Risikovurdering!$A$3:$A$102)","v":""},{"$f":"ProbSevScore($C6,$F$3,Risikovurdering!$A$3:$A$102)","v":""},{"$f":"ProbSevScore($C6,$G$3,Risikovurdering!$A$3:$A$102)","v":""}]
[null,{"$f":"Start!$D$18","v":"Lav"},1,{"$f":"ProbSevScore($C7,$D$3,Risikovurdering!$A$3:$A$102)","v":""},{"$f":"ProbSevScore($C7,$E$3,Risikovurdering!$A$3:$A$102)","v":""},{"$f":"ProbSevScore($C7,$F$3,Risikovurdering!$A$3:$A$102)","v":""},{"$f":"ProbSevScore($C7,$G$3,Risikovurdering!$A$3:$A$102)","v":""}]
[null,null,null,{"$f":"Start!$F$18","v":"Lav"},{"$f":"Start!$F$19","v":"Moderat"},{"$f":"Start!$F$20","v":"Høy"},{"$f":"Start!$F$21","v":"Svært høy"}]
[]
[]
[]
[null,null,null,"Gjenværende risiko"]
[null,null,null,1,2,3,4]
[null,{"$f":"Start!D$21","v":"Svært høy"},4,{"$f":"ProbSevScore2($C14,$D$13,Risikovurdering!$A$3:$A$102)","v":""},{"$f":"ProbSevScore2($C14,$E$13,Risikovurdering!$A$3:$A$102)","v":""},{"$f":"ProbSevScore2($C14,$F$13,Risikovurdering!$A$3:$A$102)","v":""},{"$f":"ProbSevScore2($C14,$G$13,Risikovurdering!$A$3:$A$102)","v":""}]
[null,{"$f":"Start!$D$20","v":"Høy"},3,{"$f":"ProbSevScore2($C15,$D$13,Risikovurdering!$A$3:$A$102)","v":""},{"$f":"ProbSevScore2($C15,$E$13,Risikovurdering!$A$3:$A$102)","v":""},{"$f":"ProbSevScore2($C15,$F$13,Risikovurdering!$A$3:$A$102)","v":""},{"$f":"ProbSevScore2($C15,$G$13,Risikovurdering!$A$3:$A$102)","v":""}]
[null,{"$f":"Start!$D$19","v":"Moderat"},2,{"$f":"ProbSevScore2($C16,$D$13,Risikovurdering!$A$3:$A$102)","v":""},{"$f":"ProbSevScore2($C16,$E$13,Risikovurdering!$A$3:$A$102)","v":"R1"},{"$f":"ProbSevScore2($C16,$F$13,Risikovurdering!$A$3:$A$102)","v":""},{"$f":"ProbSevScore2($C16,$G$13,Risikovurdering!$A$3:$A$102)","v":""}]
[null,{"$f":"Start!$D$18","v":"Lav"},1,{"$f":"ProbSevScore2($C17,$D$13,Risikovurdering!$A$3:$A$102)","v":""},{"$f":"ProbSevScore2($C17,$E$13,Risikovurdering!$A$3:$A$102)","v":""},{"$f":"ProbSevScore2($C17,$F$13,Risikovurdering!$A$3:$A$102)","v":""},{"$f":"ProbSevScore2($C17,$G$13,Risikovurdering!$A$3:$A$102)","v":""}]
[null,null,null,{"$f":"Start!$F$18","v":"Lav"},{"$f":"Start!$F$19","v":"Moderat"},{"$f":"Start!$F$20","v":"Høy"},{"$f":"Start!$F$21","v":"Svært høy"}]